BEGIN:VCALENDAR
VERSION:2.0
PRODID:-//Kimberla Lawson Roby — Author | Speaker | Encourager - ECPv6.15.13.1//NONSGML v1.0//EN
CALSCALE:GREGORIAN
METHOD:PUBLISH
X-WR-CALNAME:Kimberla Lawson Roby — Author | Speaker | Encourager
X-ORIGINAL-URL:https://kimroby.com
X-WR-CALDESC:Events for Kimberla Lawson Roby — Author | Speaker | Encourager
REFRESH-INTERVAL;VALUE=DURATION:PT1H
X-Robots-Tag:noindex
X-PUBLISHED-TTL:PT1H
BEGIN:VTIMEZONE
TZID:America/Indiana/Indianapolis
BEGIN:DAYLIGHT
TZOFFSETFROM:-0500
TZOFFSETTO:-0400
TZNAME:EDT
DTSTART:20210314T070000
END:DAYLIGHT
BEGIN:STANDARD
TZOFFSETFROM:-0400
TZOFFSETTO:-0500
TZNAME:EST
DTSTART:20211107T060000
END:STANDARD
BEGIN:DAYLIGHT
TZOFFSETFROM:-0500
TZOFFSETTO:-0400
TZNAME:EDT
DTSTART:20220313T070000
END:DAYLIGHT
BEGIN:STANDARD
TZOFFSETFROM:-0400
TZOFFSETTO:-0500
TZNAME:EST
DTSTART:20221106T060000
END:STANDARD
BEGIN:DAYLIGHT
TZOFFSETFROM:-0500
TZOFFSETTO:-0400
TZNAME:EDT
DTSTART:20230312T070000
END:DAYLIGHT
BEGIN:STANDARD
TZOFFSETFROM:-0400
TZOFFSETTO:-0500
TZNAME:EST
DTSTART:20231105T060000
END:STANDARD
END:VTIMEZONE
BEGIN:VTIMEZONE
TZID:America/Chicago
BEGIN:DAYLIGHT
TZOFFSETFROM:-0600
TZOFFSETTO:-0500
TZNAME:CDT
DTSTART:20160313T080000
END:DAYLIGHT
BEGIN:STANDARD
TZOFFSETFROM:-0500
TZOFFSETTO:-0600
TZNAME:CST
DTSTART:20161106T070000
END:STANDARD
BEGIN:DAYLIGHT
TZOFFSETFROM:-0600
TZOFFSETTO:-0500
TZNAME:CDT
DTSTART:20170312T080000
END:DAYLIGHT
BEGIN:STANDARD
TZOFFSETFROM:-0500
TZOFFSETTO:-0600
TZNAME:CST
DTSTART:20171105T070000
END:STANDARD
BEGIN:DAYLIGHT
TZOFFSETFROM:-0600
TZOFFSETTO:-0500
TZNAME:CDT
DTSTART:20180311T080000
END:DAYLIGHT
BEGIN:STANDARD
TZOFFSETFROM:-0500
TZOFFSETTO:-0600
TZNAME:CST
DTSTART:20181104T070000
END:STANDARD
END:VTIMEZONE
BEGIN:VEVENT
DTSTART;TZID=America/Indiana/Indianapolis:20220809T180000
DTEND;TZID=America/Indiana/Indianapolis:20220809T180000
DTSTAMP:20260423T211644
CREATED:20220713T205944Z
LAST-MODIFIED:20220714T192533Z
UID:10000037-1660068000-1660068000@kimroby.com
SUMMARY:SISTER FRIENDS FOREVER - Release Tour - Indianapolis\, IN
DESCRIPTION:In-Person Event for Sister Friends Forever by Kimberla Lawson Roby\nTalk\, Audience Q & A with Kimberla\, and Booksigning\nTuesday\, August 9\, 2022 @ 6:00 PM \nA Synopsis of Sister Friends Forever from Grand Central Publishing: \nThis emotional novel from a New York Times bestselling author follows four lifelong friends as each faces a crisis in family\, love\, and forgiveness. \nSerena\, Michelle\, Kenya\, and Lynette have been best friends since they were small children. And as sister friends forever\, they have always been there for one another\, through good times and bad\, no matter what. \nThis year is a crucial turning point for each woman. Serena\, still single\, is questioning why love hasn’t found her yet. Michelle is engaged and ready to walk down the aisle—until an old flame strolls back into her life. Kenya is happily married\, but at the same time\, her husband’s ex-wife won’t allow them or their family to live in peace. And Lynette’s divorce from her cheating husband has her nervously dating for the first time in well over a decade. \nDuring this difficult period\, their friendship will be tested like never before. Yet it is that sisterly love that they will need . . . more than ever.
URL:https://kimroby.com/event/sister-friends-forever-release-tour-indianapolis-in/
LOCATION:The Indianapolis Public Library\, 40 East St. Clair Street\, Indianapolis\, IN\, 46204\, United States
ATTACH;FMTTYPE=image/jpeg:https://kimroby.com/wp-content/uploads/Kimberla-Lawson-Roby_Events-10.jpg
GEO:39.778541;-86.156761
X-APPLE-STRUCTURED-LOCATION;VALUE=URI;X-ADDRESS=The Indianapolis Public Library 40 East St. Clair Street Indianapolis IN 46204 United States;X-APPLE-RADIUS=500;X-TITLE=40 East St. Clair Street:geo:-86.156761,39.778541
END:VEVENT
BEGIN:VEVENT
DTSTART;TZID=America/Chicago:20170825T180000
DTEND;TZID=America/Chicago:20170825T200000
DTSTAMP:20260423T211644
CREATED:20170712T160205Z
LAST-MODIFIED:20170712T160205Z
UID:10000059-1503684000-1503691200@kimroby.com
SUMMARY:An Evening with Kimberla Lawson Roby - The Indianapolis Public Library
DESCRIPTION:Speaker
URL:https://kimroby.com/event/an-evening-with-kimberla-lawson-roby-the-indianapolis-public-library/
LOCATION:The Indianapolis Public Library\, 40 East St. Clair Street\, Indianapolis\, IN\, 46204\, United States
ATTACH;FMTTYPE=image/jpeg:https://kimroby.com/wp-content/uploads/Kimberla-Lawson-Roby_Events.jpg
GEO:39.778541;-86.156761
X-APPLE-STRUCTURED-LOCATION;VALUE=URI;X-ADDRESS=The Indianapolis Public Library 40 East St. Clair Street Indianapolis IN 46204 United States;X-APPLE-RADIUS=500;X-TITLE=40 East St. Clair Street:geo:-86.156761,39.778541
END:VEVENT
END:VCALENDAR