BEGIN:VCALENDAR
VERSION:2.0
PRODID:-//Kimberla Lawson Roby — Author | Speaker | Encourager - ECPv6.15.13.1//NONSGML v1.0//EN
CALSCALE:GREGORIAN
METHOD:PUBLISH
X-WR-CALNAME:Kimberla Lawson Roby — Author | Speaker | Encourager
X-ORIGINAL-URL:https://kimroby.com
X-WR-CALDESC:Events for Kimberla Lawson Roby — Author | Speaker | Encourager
REFRESH-INTERVAL;VALUE=DURATION:PT1H
X-Robots-Tag:noindex
X-PUBLISHED-TTL:PT1H
BEGIN:VTIMEZONE
TZID:America/Chicago
BEGIN:DAYLIGHT
TZOFFSETFROM:-0600
TZOFFSETTO:-0500
TZNAME:CDT
DTSTART:20220313T080000
END:DAYLIGHT
BEGIN:STANDARD
TZOFFSETFROM:-0500
TZOFFSETTO:-0600
TZNAME:CST
DTSTART:20221106T070000
END:STANDARD
BEGIN:DAYLIGHT
TZOFFSETFROM:-0600
TZOFFSETTO:-0500
TZNAME:CDT
DTSTART:20230312T080000
END:DAYLIGHT
BEGIN:STANDARD
TZOFFSETFROM:-0500
TZOFFSETTO:-0600
TZNAME:CST
DTSTART:20231105T070000
END:STANDARD
BEGIN:DAYLIGHT
TZOFFSETFROM:-0600
TZOFFSETTO:-0500
TZNAME:CDT
DTSTART:20240310T080000
END:DAYLIGHT
BEGIN:STANDARD
TZOFFSETFROM:-0500
TZOFFSETTO:-0600
TZNAME:CST
DTSTART:20241103T070000
END:STANDARD
END:VTIMEZONE
BEGIN:VEVENT
DTSTART;TZID=America/Chicago:20230422T120000
DTEND;TZID=America/Chicago:20230422T170000
DTSTAMP:20260424T075256
CREATED:20221130T230941Z
LAST-MODIFIED:20230222T195931Z
UID:10000002-1682164800-1682182800@kimroby.com
SUMMARY:Birmingham\, AL - Featured Author for Behind the Ink's Annual Event - Saturday\, April 22\, 2023!
DESCRIPTION:BEHIND THE INK – Friday and Saturday\, April 21 – 22\, 2023!\n  \nOn Saturday\, April 22\, 2023\, Kimberla will be speaking and signing copies of her latest novel and nonfiction book (please see below). \nSister Friends Forever \nThe Woman God Created You to Be: Finding Success Through Faith—Spiritually\, Personally\, and Professionally \nSo please join Kimberla on Saturday\, April 22\, 2023 in Birmingham!\n \nTo register\, please visit:\nhttps://allevents.in/birmingham/behind-the-ink-2023/800023135999925 \nLocation: The Harbert Center\, 2019 Fourth Avenue North\, Birmingham\, AL 35203 \n 
URL:https://kimroby.com/event/behind-the-ink-april-22-2023/
LOCATION:The Harbert Center\, 2019 Fourth Avenue North\, Birmingham\, AL\, 35203\, United States
ATTACH;FMTTYPE=image/jpeg:https://kimroby.com/wp-content/uploads/Kimberla-Lawson-Roby_Events-10.jpg
END:VEVENT
END:VCALENDAR