BEGIN:VCALENDAR
VERSION:2.0
PRODID:-//Kimberla Lawson Roby — Author | Speaker | Encourager - ECPv6.15.13.1//NONSGML v1.0//EN
CALSCALE:GREGORIAN
METHOD:PUBLISH
X-WR-CALNAME:Kimberla Lawson Roby — Author | Speaker | Encourager
X-ORIGINAL-URL:https://kimroby.com
X-WR-CALDESC:Events for Kimberla Lawson Roby — Author | Speaker | Encourager
REFRESH-INTERVAL;VALUE=DURATION:PT1H
X-Robots-Tag:noindex
X-PUBLISHED-TTL:PT1H
BEGIN:VTIMEZONE
TZID:America/Chicago
BEGIN:DAYLIGHT
TZOFFSETFROM:-0600
TZOFFSETTO:-0500
TZNAME:CDT
DTSTART:20210314T080000
END:DAYLIGHT
BEGIN:STANDARD
TZOFFSETFROM:-0500
TZOFFSETTO:-0600
TZNAME:CST
DTSTART:20211107T070000
END:STANDARD
BEGIN:DAYLIGHT
TZOFFSETFROM:-0600
TZOFFSETTO:-0500
TZNAME:CDT
DTSTART:20220313T080000
END:DAYLIGHT
BEGIN:STANDARD
TZOFFSETFROM:-0500
TZOFFSETTO:-0600
TZNAME:CST
DTSTART:20221106T070000
END:STANDARD
BEGIN:DAYLIGHT
TZOFFSETFROM:-0600
TZOFFSETTO:-0500
TZNAME:CDT
DTSTART:20230312T080000
END:DAYLIGHT
BEGIN:STANDARD
TZOFFSETFROM:-0500
TZOFFSETTO:-0600
TZNAME:CST
DTSTART:20231105T070000
END:STANDARD
END:VTIMEZONE
BEGIN:VEVENT
DTSTART;TZID=America/Chicago:20221022T113000
DTEND;TZID=America/Chicago:20221022T123000
DTSTAMP:20260423T211644
CREATED:20221003T174506Z
LAST-MODIFIED:20221020T012041Z
UID:10000005-1666438200-1666441800@kimroby.com
SUMMARY:Little Rock\, AR - Six Bridges Book Festival - Saturday\, October 22\, 2022!
DESCRIPTION:The Six Bridges Book Festival is taking place October 20 – 30\, 2022\, so please join Kimberla for her author’s session with author Claudia Gray at 11:30 AM at Ron Robinson Theater!\nSister Friends Forever by Kimberla Lawson Roby is an emotional novel that follows four lifelong friends—Serena (single)\, Michelle (engaged)\, Kenya (married)\, and Lynette (divorced)—as each faces a crisis in family\, love\, and forgiveness\, finding that they need their friendship more than ever. \nThe Murder of Mr. Wickham by Claudia Gray is a story that centers on a summer house party that turns into a thrilling whodunit when Jane Austen’s Mr. Wickham meets a sudden and suspicious end. Nearly everyone at the party is a suspect\, so it falls to the party’s two youngest guests to solve the mystery in this tantalizing fusion of Jane Austen and Agatha Christie. \nRon Robinson Theater\, 11:30 a.m.-12:30 p.m.
URL:https://kimroby.com/event/little-rock-ar-six-bridges-book-festival-saturday-october-22-2022/
LOCATION:Ron Robinson Theater\, Library Square\, 100 River Market Avenue\, Little Rock\, AR\, 72201\, United States
ATTACH;FMTTYPE=image/jpeg:https://kimroby.com/wp-content/uploads/Kimberla-Lawson-Roby_Events-10.jpg
END:VEVENT
END:VCALENDAR