BEGIN:VCALENDAR
VERSION:2.0
PRODID:-//Kimberla Lawson Roby — Author | Speaker | Encourager - ECPv6.15.13.1//NONSGML v1.0//EN
CALSCALE:GREGORIAN
METHOD:PUBLISH
X-WR-CALNAME:Kimberla Lawson Roby — Author | Speaker | Encourager
X-ORIGINAL-URL:https://kimroby.com
X-WR-CALDESC:Events for Kimberla Lawson Roby — Author | Speaker | Encourager
REFRESH-INTERVAL;VALUE=DURATION:PT1H
X-Robots-Tag:noindex
X-PUBLISHED-TTL:PT1H
BEGIN:VTIMEZONE
TZID:America/Chicago
BEGIN:DAYLIGHT
TZOFFSETFROM:-0600
TZOFFSETTO:-0500
TZNAME:CDT
DTSTART:20160313T080000
END:DAYLIGHT
BEGIN:STANDARD
TZOFFSETFROM:-0500
TZOFFSETTO:-0600
TZNAME:CST
DTSTART:20161106T070000
END:STANDARD
BEGIN:DAYLIGHT
TZOFFSETFROM:-0600
TZOFFSETTO:-0500
TZNAME:CDT
DTSTART:20170312T080000
END:DAYLIGHT
BEGIN:STANDARD
TZOFFSETFROM:-0500
TZOFFSETTO:-0600
TZNAME:CST
DTSTART:20171105T070000
END:STANDARD
BEGIN:DAYLIGHT
TZOFFSETFROM:-0600
TZOFFSETTO:-0500
TZNAME:CDT
DTSTART:20180311T080000
END:DAYLIGHT
BEGIN:STANDARD
TZOFFSETFROM:-0500
TZOFFSETTO:-0600
TZNAME:CST
DTSTART:20181104T070000
END:STANDARD
END:VTIMEZONE
BEGIN:VEVENT
DTSTART;TZID=America/Chicago:20171021T100000
DTEND;TZID=America/Chicago:20171021T150000
DTSTAMP:20260424T113516
CREATED:20170906T185118Z
LAST-MODIFIED:20170906T185354Z
UID:10000045-1508580000-1508598000@kimroby.com
SUMMARY:Hachette's Book Club Brunch:  A Day for Readers 2017
DESCRIPTION:Featured Author / Panelist   –  $50 Admission includes all panels\, lite lunch\, and a tote bag with selected free books.  Additionally\, books by all featured authors will be available for purchase at the event from a local independent bookseller.
URL:https://kimroby.com/event/hachettes-book-club-brunch-a-day-for-readers-2017/
LOCATION:New York Society for Ethical Culture\, 2 West 64th Street\, New York\, NY\, 10023
ATTACH;FMTTYPE=image/jpeg:https://kimroby.com/wp-content/uploads/Kimberla-Lawson-Roby_Events.jpg
GEO:40.7711176;-73.9800839
X-APPLE-STRUCTURED-LOCATION;VALUE=URI;X-ADDRESS=New York Society for Ethical Culture 2 West 64th Street New York NY 10023;X-APPLE-RADIUS=500;X-TITLE=2 West 64th Street:geo:-73.9800839,40.7711176
END:VEVENT
END:VCALENDAR