BEGIN:VCALENDAR
VERSION:2.0
PRODID:-//Kimberla Lawson Roby — Author | Speaker | Encourager - ECPv6.15.13.1//NONSGML v1.0//EN
CALSCALE:GREGORIAN
METHOD:PUBLISH
X-ORIGINAL-URL:https://kimroby.com
X-WR-CALDESC:Events for Kimberla Lawson Roby — Author | Speaker | Encourager
REFRESH-INTERVAL;VALUE=DURATION:PT1H
X-Robots-Tag:noindex
X-PUBLISHED-TTL:PT1H
BEGIN:VTIMEZONE
TZID:America/Chicago
BEGIN:DAYLIGHT
TZOFFSETFROM:-0600
TZOFFSETTO:-0500
TZNAME:CDT
DTSTART:20170312T080000
END:DAYLIGHT
BEGIN:STANDARD
TZOFFSETFROM:-0500
TZOFFSETTO:-0600
TZNAME:CST
DTSTART:20171105T070000
END:STANDARD
BEGIN:DAYLIGHT
TZOFFSETFROM:-0600
TZOFFSETTO:-0500
TZNAME:CDT
DTSTART:20180311T080000
END:DAYLIGHT
BEGIN:STANDARD
TZOFFSETFROM:-0500
TZOFFSETTO:-0600
TZNAME:CST
DTSTART:20181104T070000
END:STANDARD
BEGIN:DAYLIGHT
TZOFFSETFROM:-0600
TZOFFSETTO:-0500
TZNAME:CDT
DTSTART:20190310T080000
END:DAYLIGHT
BEGIN:STANDARD
TZOFFSETFROM:-0500
TZOFFSETTO:-0600
TZNAME:CST
DTSTART:20191103T070000
END:STANDARD
END:VTIMEZONE
BEGIN:VEVENT
DTSTART;VALUE=DATE:20180406
DTEND;VALUE=DATE:20180408
DTSTAMP:20260423T192229
CREATED:20171102T201041Z
LAST-MODIFIED:20180307T192548Z
UID:10000047-1522972800-1523145599@kimroby.com
SUMMARY:3rd Annual Kept Woman of God Conference
DESCRIPTION:KEYNOTE SPEAKER  –  Q & A and Signing to Follow   –   Registration Cost – $75.00  – Includes: Swag Bag\, Continental Breakfast\, Lunch\, and Fashion Show! \n 
URL:https://kimroby.com/event/3rd-annual-kept-woman-of-god-conference/
LOCATION:Memorial Church International\, 11424 Hickman Mills Drive\, Kansas City\, MO\, 64134\, United States
ATTACH;FMTTYPE=image/jpeg:https://kimroby.com/wp-content/uploads/Kimberla-Lawson-Roby_Events.jpg
ORGANIZER;CN="Kept Woman of God":MAILTO:keptwoman07@gmail.com
GEO:38.9165239;-94.5249091
X-APPLE-STRUCTURED-LOCATION;VALUE=URI;X-ADDRESS=Memorial Church International 11424 Hickman Mills Drive Kansas City MO 64134 United States;X-APPLE-RADIUS=500;X-TITLE=11424 Hickman Mills Drive:geo:-94.5249091,38.9165239
END:VEVENT
END:VCALENDAR