BEGIN:VCALENDAR
VERSION:2.0
PRODID:-//Kimberla Lawson Roby — Author | Speaker | Encourager - ECPv6.15.13.1//NONSGML v1.0//EN
CALSCALE:GREGORIAN
METHOD:PUBLISH
X-ORIGINAL-URL:https://kimroby.com
X-WR-CALDESC:Events for Kimberla Lawson Roby — Author | Speaker | Encourager
REFRESH-INTERVAL;VALUE=DURATION:PT1H
X-Robots-Tag:noindex
X-PUBLISHED-TTL:PT1H
BEGIN:VTIMEZONE
TZID:America/Chicago
BEGIN:DAYLIGHT
TZOFFSETFROM:-0600
TZOFFSETTO:-0500
TZNAME:CDT
DTSTART:20170312T080000
END:DAYLIGHT
BEGIN:STANDARD
TZOFFSETFROM:-0500
TZOFFSETTO:-0600
TZNAME:CST
DTSTART:20171105T070000
END:STANDARD
BEGIN:DAYLIGHT
TZOFFSETFROM:-0600
TZOFFSETTO:-0500
TZNAME:CDT
DTSTART:20180311T080000
END:DAYLIGHT
BEGIN:STANDARD
TZOFFSETFROM:-0500
TZOFFSETTO:-0600
TZNAME:CST
DTSTART:20181104T070000
END:STANDARD
BEGIN:DAYLIGHT
TZOFFSETFROM:-0600
TZOFFSETTO:-0500
TZNAME:CDT
DTSTART:20190310T080000
END:DAYLIGHT
BEGIN:STANDARD
TZOFFSETFROM:-0500
TZOFFSETTO:-0600
TZNAME:CST
DTSTART:20191103T070000
END:STANDARD
BEGIN:DAYLIGHT
TZOFFSETFROM:-0600
TZOFFSETTO:-0500
TZNAME:CDT
DTSTART:20200308T080000
END:DAYLIGHT
BEGIN:STANDARD
TZOFFSETFROM:-0500
TZOFFSETTO:-0600
TZNAME:CST
DTSTART:20201101T070000
END:STANDARD
BEGIN:DAYLIGHT
TZOFFSETFROM:-0600
TZOFFSETTO:-0500
TZNAME:CDT
DTSTART:20210314T080000
END:DAYLIGHT
BEGIN:STANDARD
TZOFFSETFROM:-0500
TZOFFSETTO:-0600
TZNAME:CST
DTSTART:20211107T070000
END:STANDARD
BEGIN:DAYLIGHT
TZOFFSETFROM:-0600
TZOFFSETTO:-0500
TZNAME:CDT
DTSTART:20220313T080000
END:DAYLIGHT
BEGIN:STANDARD
TZOFFSETFROM:-0500
TZOFFSETTO:-0600
TZNAME:CST
DTSTART:20221106T070000
END:STANDARD
BEGIN:DAYLIGHT
TZOFFSETFROM:-0600
TZOFFSETTO:-0500
TZNAME:CDT
DTSTART:20230312T080000
END:DAYLIGHT
BEGIN:STANDARD
TZOFFSETFROM:-0500
TZOFFSETTO:-0600
TZNAME:CST
DTSTART:20231105T070000
END:STANDARD
END:VTIMEZONE
BEGIN:VEVENT
DTSTART;TZID=America/Chicago:20220815T180000
DTEND;TZID=America/Chicago:20220815T180000
DTSTAMP:20260423T191032
CREATED:20220713T205913Z
LAST-MODIFIED:20220714T192413Z
UID:10000021-1660586400-1660586400@kimroby.com
SUMMARY:SISTER FRIENDS FOREVER - Release Tour - Memphis\, TN
DESCRIPTION:In-Person Event for Sister Friends Forever by Kimberla Lawson Roby\nTalk\, Audience Q & A with Kimberla\, and Booksigning\nMonday\, August 15\, 2022 @ 6:00 PM \nA Synopsis of Sister Friends Forever from Grand Central Publishing: \nThis emotional novel from a New York Times bestselling author follows four lifelong friends as each faces a crisis in family\, love\, and forgiveness. \nSerena\, Michelle\, Kenya\, and Lynette have been best friends since they were small children. And as sister friends forever\, they have always been there for one another\, through good times and bad\, no matter what. \nThis year is a crucial turning point for each woman. Serena\, still single\, is questioning why love hasn’t found her yet. Michelle is engaged and ready to walk down the aisle—until an old flame strolls back into her life. Kenya is happily married\, but at the same time\, her husband’s ex-wife won’t allow them or their family to live in peace. And Lynette’s divorce from her cheating husband has her nervously dating for the first time in well over a decade. \nDuring this difficult period\, their friendship will be tested like never before. Yet it is that sisterly love that they will need . . . more than ever.
URL:https://kimroby.com/event/sister-friends-forever-release-tour-memphis-tn/
LOCATION:Barnes & Noble – Wolfchase Galleria\, 2774 N Germantown Parkway\, Memphis\, TN\, 38133\, United States
ATTACH;FMTTYPE=image/jpeg:https://kimroby.com/wp-content/uploads/Kimberla-Lawson-Roby_Events-10.jpg
GEO:35.2010813;-89.7912488
X-APPLE-STRUCTURED-LOCATION;VALUE=URI;X-ADDRESS=Barnes & Noble – Wolfchase Galleria 2774 N Germantown Parkway Memphis TN 38133 United States;X-APPLE-RADIUS=500;X-TITLE=2774 N Germantown Parkway:geo:-89.7912488,35.2010813
END:VEVENT
BEGIN:VEVENT
DTSTART;TZID=America/Chicago:20180803T190000
DTEND;TZID=America/Chicago:20180803T190000
DTSTAMP:20260423T191032
CREATED:20180420T180928Z
LAST-MODIFIED:20180420T184544Z
UID:10000035-1533322800-1533322800@kimroby.com
SUMMARY:BETTER LATE THAN NEVER - Release Tour - MEMPHIS\, TN
DESCRIPTION:Speaking & Signing Event
URL:https://kimroby.com/event/better-late-than-never-release-tour-memphis-tn/
LOCATION:Barnes & Noble – Wolfchase Galleria\, 2774 N Germantown Parkway\, Memphis\, TN\, 38133\, United States
ATTACH;FMTTYPE=image/jpeg:https://kimroby.com/wp-content/uploads/Kimberla-Lawson-Roby_Events.jpg
GEO:35.2010813;-89.7912488
X-APPLE-STRUCTURED-LOCATION;VALUE=URI;X-ADDRESS=Barnes & Noble – Wolfchase Galleria 2774 N Germantown Parkway Memphis TN 38133 United States;X-APPLE-RADIUS=500;X-TITLE=2774 N Germantown Parkway:geo:-89.7912488,35.2010813
END:VEVENT
END:VCALENDAR