BEGIN:VCALENDAR
VERSION:2.0
PRODID:-//Kimberla Lawson Roby — Author | Speaker | Encourager - ECPv6.15.13.1//NONSGML v1.0//EN
CALSCALE:GREGORIAN
METHOD:PUBLISH
X-WR-CALNAME:Kimberla Lawson Roby — Author | Speaker | Encourager
X-ORIGINAL-URL:https://kimroby.com
X-WR-CALDESC:Events for Kimberla Lawson Roby — Author | Speaker | Encourager
REFRESH-INTERVAL;VALUE=DURATION:PT1H
X-Robots-Tag:noindex
X-PUBLISHED-TTL:PT1H
BEGIN:VTIMEZONE
TZID:America/Chicago
BEGIN:DAYLIGHT
TZOFFSETFROM:-0600
TZOFFSETTO:-0500
TZNAME:CDT
DTSTART:20170312T080000
END:DAYLIGHT
BEGIN:STANDARD
TZOFFSETFROM:-0500
TZOFFSETTO:-0600
TZNAME:CST
DTSTART:20171105T070000
END:STANDARD
BEGIN:DAYLIGHT
TZOFFSETFROM:-0600
TZOFFSETTO:-0500
TZNAME:CDT
DTSTART:20180311T080000
END:DAYLIGHT
BEGIN:STANDARD
TZOFFSETFROM:-0500
TZOFFSETTO:-0600
TZNAME:CST
DTSTART:20181104T070000
END:STANDARD
BEGIN:DAYLIGHT
TZOFFSETFROM:-0600
TZOFFSETTO:-0500
TZNAME:CDT
DTSTART:20190310T080000
END:DAYLIGHT
BEGIN:STANDARD
TZOFFSETFROM:-0500
TZOFFSETTO:-0600
TZNAME:CST
DTSTART:20191103T070000
END:STANDARD
END:VTIMEZONE
BEGIN:VEVENT
DTSTART;TZID=America/Chicago:20180731T190000
DTEND;TZID=America/Chicago:20180731T190000
DTSTAMP:20260423T191110
CREATED:20180420T180929Z
LAST-MODIFIED:20180420T183426Z
UID:10000036-1533063600-1533063600@kimroby.com
SUMMARY:BETTER LATE THAN NEVER - Release Tour  - ROCKFORD\, IL
DESCRIPTION:Speaking & Signing Event
URL:https://kimroby.com/event/better-late-than-never-release-tour-rockford-il/
LOCATION:Barnes & Noble – Cherryvale Mall\, 7200 Harrison Avenue\, Rockford\, IL\, 61112\, United States
ATTACH;FMTTYPE=image/jpeg:https://kimroby.com/wp-content/uploads/Kimberla-Lawson-Roby_Events.jpg
GEO:42.2461735;-88.9757903
X-APPLE-STRUCTURED-LOCATION;VALUE=URI;X-ADDRESS=Barnes & Noble – Cherryvale Mall 7200 Harrison Avenue Rockford IL 61112 United States;X-APPLE-RADIUS=500;X-TITLE=7200 Harrison Avenue:geo:-88.9757903,42.2461735
END:VEVENT
END:VCALENDAR