BEGIN:VCALENDAR
VERSION:2.0
PRODID:-//Kimberla Lawson Roby — Author | Speaker | Encourager - ECPv6.15.13.1//NONSGML v1.0//EN
CALSCALE:GREGORIAN
METHOD:PUBLISH
X-WR-CALNAME:Kimberla Lawson Roby — Author | Speaker | Encourager
X-ORIGINAL-URL:https://kimroby.com
X-WR-CALDESC:Events for Kimberla Lawson Roby — Author | Speaker | Encourager
REFRESH-INTERVAL;VALUE=DURATION:PT1H
X-Robots-Tag:noindex
X-PUBLISHED-TTL:PT1H
BEGIN:VTIMEZONE
TZID:America/Chicago
BEGIN:DAYLIGHT
TZOFFSETFROM:-0600
TZOFFSETTO:-0500
TZNAME:CDT
DTSTART:20210314T080000
END:DAYLIGHT
BEGIN:STANDARD
TZOFFSETFROM:-0500
TZOFFSETTO:-0600
TZNAME:CST
DTSTART:20211107T070000
END:STANDARD
BEGIN:DAYLIGHT
TZOFFSETFROM:-0600
TZOFFSETTO:-0500
TZNAME:CDT
DTSTART:20220313T080000
END:DAYLIGHT
BEGIN:STANDARD
TZOFFSETFROM:-0500
TZOFFSETTO:-0600
TZNAME:CST
DTSTART:20221106T070000
END:STANDARD
BEGIN:DAYLIGHT
TZOFFSETFROM:-0600
TZOFFSETTO:-0500
TZNAME:CDT
DTSTART:20230312T080000
END:DAYLIGHT
BEGIN:STANDARD
TZOFFSETFROM:-0500
TZOFFSETTO:-0600
TZNAME:CST
DTSTART:20231105T070000
END:STANDARD
END:VTIMEZONE
BEGIN:VEVENT
DTSTART;TZID=America/Chicago:20221210T140000
DTEND;TZID=America/Chicago:20221210T150000
DTSTAMP:20260423T230644
CREATED:20221130T223956Z
LAST-MODIFIED:20221130T223956Z
UID:10000003-1670680800-1670684400@kimroby.com
SUMMARY:Orland Park\, IL - Booksigning at Barbara's Bookstore - Saturday\, December 10\, 2022!
DESCRIPTION:Kimberla’s Final Book Signing Event of 2022!\nKimberla will be signing copies of the following books\, and she looks forward to seeing you! \nSister Friends Forever\nThe Woman God Created You to Be: Finding Success Through Faith—Spiritually\, Personally\, and Professionally\nA Christmas Prayer\nCasting the First Stone \nPlease join Kimberla from 2  – 3 PM\, Saturday\, December 10\, 2022! \nLocation: 568 Orland Square Drive\, Orland Park\, IL 60462 \nhttps://barbarasbookstores.com/event/kimberla-lawson-roby/
URL:https://kimroby.com/event/orland-park-il-booksigning-at-barbaras-bookstore-saturday-december-10-2022/
LOCATION:Barbara’s Bookstore\, 568 Orland Square Drive\, Orland Park\, IL\, 60462\, United States
ATTACH;FMTTYPE=image/jpeg:https://kimroby.com/wp-content/uploads/Kimberla-Lawson-Roby_Events-10.jpg
END:VEVENT
END:VCALENDAR