BEGIN:VCALENDAR
VERSION:2.0
PRODID:-//Kimberla Lawson Roby — Author | Speaker | Encourager - ECPv6.15.13.1//NONSGML v1.0//EN
CALSCALE:GREGORIAN
METHOD:PUBLISH
X-WR-CALNAME:Kimberla Lawson Roby — Author | Speaker | Encourager
X-ORIGINAL-URL:https://kimroby.com
X-WR-CALDESC:Events for Kimberla Lawson Roby — Author | Speaker | Encourager
REFRESH-INTERVAL;VALUE=DURATION:PT1H
X-Robots-Tag:noindex
X-PUBLISHED-TTL:PT1H
BEGIN:VTIMEZONE
TZID:America/Chicago
BEGIN:DAYLIGHT
TZOFFSETFROM:-0600
TZOFFSETTO:-0500
TZNAME:CDT
DTSTART:20170312T080000
END:DAYLIGHT
BEGIN:STANDARD
TZOFFSETFROM:-0500
TZOFFSETTO:-0600
TZNAME:CST
DTSTART:20171105T070000
END:STANDARD
BEGIN:DAYLIGHT
TZOFFSETFROM:-0600
TZOFFSETTO:-0500
TZNAME:CDT
DTSTART:20180311T080000
END:DAYLIGHT
BEGIN:STANDARD
TZOFFSETFROM:-0500
TZOFFSETTO:-0600
TZNAME:CST
DTSTART:20181104T070000
END:STANDARD
BEGIN:DAYLIGHT
TZOFFSETFROM:-0600
TZOFFSETTO:-0500
TZNAME:CDT
DTSTART:20190310T080000
END:DAYLIGHT
BEGIN:STANDARD
TZOFFSETFROM:-0500
TZOFFSETTO:-0600
TZNAME:CST
DTSTART:20191103T070000
END:STANDARD
END:VTIMEZONE
BEGIN:VEVENT
DTSTART;TZID=America/Chicago:20180225T143000
DTEND;TZID=America/Chicago:20180225T143000
DTSTAMP:20260424T003132
CREATED:20171102T215020Z
LAST-MODIFIED:20171102T222334Z
UID:10000049-1519569000-1519569000@kimroby.com
SUMMARY:Tau Alpha Zeta Chapter of Zeta Phi Beta Sorority\, Inc. - FINER Expo
DESCRIPTION:2018 FINER WOMAN AWARD HONOREE   –   Award Presentation\, Reading\, Q & A and Signing to Follow
URL:https://kimroby.com/event/tau-alpha-chapter-of-zeta-phi-beta-sorority-inc-finer-expo/
LOCATION:Hilton Chicago / Oak Lawn\, 9333 S. Cicero Avenue\, Oak Lawn\, IL\, 60453\, United States
ATTACH;FMTTYPE=image/jpeg:https://kimroby.com/wp-content/uploads/Kimberla-Lawson-Roby_Events.jpg
GEO:41.7227176;-87.7394688
X-APPLE-STRUCTURED-LOCATION;VALUE=URI;X-ADDRESS=Hilton Chicago / Oak Lawn 9333 S. Cicero Avenue Oak Lawn IL 60453 United States;X-APPLE-RADIUS=500;X-TITLE=9333 S. Cicero Avenue:geo:-87.7394688,41.7227176
END:VEVENT
END:VCALENDAR