BEGIN:VCALENDAR
VERSION:2.0
PRODID:-//Kimberla Lawson Roby — Author | Speaker | Encourager - ECPv6.15.13.1//NONSGML v1.0//EN
CALSCALE:GREGORIAN
METHOD:PUBLISH
X-ORIGINAL-URL:https://kimroby.com
X-WR-CALDESC:Events for Kimberla Lawson Roby — Author | Speaker | Encourager
REFRESH-INTERVAL;VALUE=DURATION:PT1H
X-Robots-Tag:noindex
X-PUBLISHED-TTL:PT1H
BEGIN:VTIMEZONE
TZID:America/Chicago
BEGIN:DAYLIGHT
TZOFFSETFROM:-0600
TZOFFSETTO:-0500
TZNAME:CDT
DTSTART:20230312T080000
END:DAYLIGHT
BEGIN:STANDARD
TZOFFSETFROM:-0500
TZOFFSETTO:-0600
TZNAME:CST
DTSTART:20231105T070000
END:STANDARD
BEGIN:DAYLIGHT
TZOFFSETFROM:-0600
TZOFFSETTO:-0500
TZNAME:CDT
DTSTART:20240310T080000
END:DAYLIGHT
BEGIN:STANDARD
TZOFFSETFROM:-0500
TZOFFSETTO:-0600
TZNAME:CST
DTSTART:20241103T070000
END:STANDARD
BEGIN:DAYLIGHT
TZOFFSETFROM:-0600
TZOFFSETTO:-0500
TZNAME:CDT
DTSTART:20250309T080000
END:DAYLIGHT
BEGIN:STANDARD
TZOFFSETFROM:-0500
TZOFFSETTO:-0600
TZNAME:CST
DTSTART:20251102T070000
END:STANDARD
END:VTIMEZONE
BEGIN:VEVENT
DTSTART;TZID=America/Chicago:20241019T110000
DTEND;TZID=America/Chicago:20241020T110000
DTSTAMP:20260423T190348
CREATED:20241006T210241Z
LAST-MODIFIED:20241006T210420Z
UID:10000073-1729335600-1729422000@kimroby.com
SUMMARY:INDIANAPOLIS\, IN - Speaking at First Baptist Church North Indianapolis Women's Day Luncheon - Saturday\, October 19\, 2024
DESCRIPTION:Celebrating Women’s Day Weekend – Saturday & Sunday\, October 19-20\, 2024 \n  \nDuring the luncheon on Saturday\, October 19\, 2024\, Kimberla will serve as the Guest Speaker\, and this year’s Women’s Day theme is\, “Are You Dressed for The Battle?” — Ephesians 6:10-18 \n\nHosted by: First Baptist Church North Indianapolis Women’s Ministry \n  \nKimberla will also be signing copies of her book\, The Woman God Created You to Be: Finding Success Through Faith—Spiritually\, Personally\, and Professionally\, on Saturday at the luncheon and also after morning service on Sunday\, October 20\, 2024. \n  \nChurch Email Address:  FirstBaptistIndy@gmail.com \n  \nPastor: Ivan D. Hicks\, Ph.D \nFirst Lady and Women’s Day Co-Chair: Mrs. Christia Hicks \nWomen’s Day Co-Chair: Minister Marie Highbaugh \n\nCopies of the book will be available for purchase or to order copies online\, please visit:\n \nhttps://kimroby.com/bookpage_thewomangodcreatedyoutobe/.
URL:https://kimroby.com/event/first-baptist-church-north-indianapolis-womens-day/
LOCATION:First Baptist Church North Indianapolis\, 880 West 28th Street\, Indianapolis\, IN\, 46208\, United States
ATTACH;FMTTYPE=image/jpeg:https://kimroby.com/wp-content/uploads/Kimberla-Lawson-Roby_Events-10.jpg
END:VEVENT
END:VCALENDAR