BEGIN:VCALENDAR
VERSION:2.0
PRODID:-//Kimberla Lawson Roby — Author | Speaker | Encourager - ECPv6.15.13.1//NONSGML v1.0//EN
CALSCALE:GREGORIAN
METHOD:PUBLISH
X-ORIGINAL-URL:https://kimroby.com
X-WR-CALDESC:Events for Kimberla Lawson Roby — Author | Speaker | Encourager
REFRESH-INTERVAL;VALUE=DURATION:PT1H
X-Robots-Tag:noindex
X-PUBLISHED-TTL:PT1H
BEGIN:VTIMEZONE
TZID:America/Chicago
BEGIN:DAYLIGHT
TZOFFSETFROM:-0600
TZOFFSETTO:-0500
TZNAME:CDT
DTSTART:20160313T080000
END:DAYLIGHT
BEGIN:STANDARD
TZOFFSETFROM:-0500
TZOFFSETTO:-0600
TZNAME:CST
DTSTART:20161106T070000
END:STANDARD
BEGIN:DAYLIGHT
TZOFFSETFROM:-0600
TZOFFSETTO:-0500
TZNAME:CDT
DTSTART:20170312T080000
END:DAYLIGHT
BEGIN:STANDARD
TZOFFSETFROM:-0500
TZOFFSETTO:-0600
TZNAME:CST
DTSTART:20171105T070000
END:STANDARD
BEGIN:DAYLIGHT
TZOFFSETFROM:-0600
TZOFFSETTO:-0500
TZNAME:CDT
DTSTART:20180311T080000
END:DAYLIGHT
BEGIN:STANDARD
TZOFFSETFROM:-0500
TZOFFSETTO:-0600
TZNAME:CST
DTSTART:20181104T070000
END:STANDARD
END:VTIMEZONE
BEGIN:VEVENT
DTSTART;TZID=America/Chicago:20170826T140000
DTEND;TZID=America/Chicago:20170826T160000
DTSTAMP:20260424T151317
CREATED:20170712T160623Z
LAST-MODIFIED:20170712T160623Z
UID:10000050-1503756000-1503763200@kimroby.com
SUMMARY:Author Talk Event at Dayton Metro Library
DESCRIPTION:Speaker
URL:https://kimroby.com/event/author-talk-event-at-dayton-metro-library/
LOCATION:Dayton Metro Library\, 215 E. Third Street\, Dayton\, OH\, 45402\, United States
ATTACH;FMTTYPE=image/jpeg:https://kimroby.com/wp-content/uploads/Kimberla-Lawson-Roby_Events.jpg
GEO:39.7605486;-84.1878269
X-APPLE-STRUCTURED-LOCATION;VALUE=URI;X-ADDRESS=Dayton Metro Library 215 E. Third Street Dayton OH 45402 United States;X-APPLE-RADIUS=500;X-TITLE=215 E. Third Street:geo:-84.1878269,39.7605486
END:VEVENT
END:VCALENDAR