BEGIN:VCALENDAR
VERSION:2.0
PRODID:-//Kimberla Lawson Roby — Author | Speaker | Encourager - ECPv6.15.13.1//NONSGML v1.0//EN
CALSCALE:GREGORIAN
METHOD:PUBLISH
X-WR-CALNAME:Kimberla Lawson Roby — Author | Speaker | Encourager
X-ORIGINAL-URL:https://kimroby.com
X-WR-CALDESC:Events for Kimberla Lawson Roby — Author | Speaker | Encourager
REFRESH-INTERVAL;VALUE=DURATION:PT1H
X-Robots-Tag:noindex
X-PUBLISHED-TTL:PT1H
BEGIN:VTIMEZONE
TZID:America/Chicago
BEGIN:DAYLIGHT
TZOFFSETFROM:-0600
TZOFFSETTO:-0500
TZNAME:CDT
DTSTART:20160313T080000
END:DAYLIGHT
BEGIN:STANDARD
TZOFFSETFROM:-0500
TZOFFSETTO:-0600
TZNAME:CST
DTSTART:20161106T070000
END:STANDARD
BEGIN:DAYLIGHT
TZOFFSETFROM:-0600
TZOFFSETTO:-0500
TZNAME:CDT
DTSTART:20170312T080000
END:DAYLIGHT
BEGIN:STANDARD
TZOFFSETFROM:-0500
TZOFFSETTO:-0600
TZNAME:CST
DTSTART:20171105T070000
END:STANDARD
BEGIN:DAYLIGHT
TZOFFSETFROM:-0600
TZOFFSETTO:-0500
TZNAME:CDT
DTSTART:20180311T080000
END:DAYLIGHT
BEGIN:STANDARD
TZOFFSETFROM:-0500
TZOFFSETTO:-0600
TZNAME:CST
DTSTART:20181104T070000
END:STANDARD
END:VTIMEZONE
BEGIN:VEVENT
DTSTART;TZID=America/Chicago:20170827T140000
DTEND;TZID=America/Chicago:20170827T160000
DTSTAMP:20260424T180650
CREATED:20170712T161125Z
LAST-MODIFIED:20170712T161125Z
UID:10000051-1503842400-1503849600@kimroby.com
SUMMARY:Carnegie Author Series at Columbus Metropolitan Library
DESCRIPTION:Speaker -Author Talks at Main Library \nRegistration opens July 24\, 2017 – For full details\, please click here: www.columbuslibrary.org
URL:https://kimroby.com/event/carnegie-author-series-at-columbus-metropolitan-library/
LOCATION:Columbus Metropolitan Library\, 96 S. Grant Avenue\, Columbus\, OH\, 43215\, United States
ATTACH;FMTTYPE=image/jpeg:https://kimroby.com/wp-content/uploads/Kimberla-Lawson-Roby_Events.jpg
GEO:39.9612369;-82.9894763
X-APPLE-STRUCTURED-LOCATION;VALUE=URI;X-ADDRESS=Columbus Metropolitan Library 96 S. Grant Avenue Columbus OH 43215 United States;X-APPLE-RADIUS=500;X-TITLE=96 S. Grant Avenue:geo:-82.9894763,39.9612369
END:VEVENT
END:VCALENDAR