BEGIN:VCALENDAR
VERSION:2.0
PRODID:-//Kimberla Lawson Roby — Author | Speaker | Encourager - ECPv6.15.13.1//NONSGML v1.0//EN
CALSCALE:GREGORIAN
METHOD:PUBLISH
X-ORIGINAL-URL:https://kimroby.com
X-WR-CALDESC:Events for Kimberla Lawson Roby — Author | Speaker | Encourager
REFRESH-INTERVAL;VALUE=DURATION:PT1H
X-Robots-Tag:noindex
X-PUBLISHED-TTL:PT1H
BEGIN:VTIMEZONE
TZID:America/Chicago
BEGIN:DAYLIGHT
TZOFFSETFROM:-0600
TZOFFSETTO:-0500
TZNAME:CDT
DTSTART:20240310T080000
END:DAYLIGHT
BEGIN:STANDARD
TZOFFSETFROM:-0500
TZOFFSETTO:-0600
TZNAME:CST
DTSTART:20241103T070000
END:STANDARD
BEGIN:DAYLIGHT
TZOFFSETFROM:-0600
TZOFFSETTO:-0500
TZNAME:CDT
DTSTART:20250309T080000
END:DAYLIGHT
BEGIN:STANDARD
TZOFFSETFROM:-0500
TZOFFSETTO:-0600
TZNAME:CST
DTSTART:20251102T070000
END:STANDARD
BEGIN:DAYLIGHT
TZOFFSETFROM:-0600
TZOFFSETTO:-0500
TZNAME:CDT
DTSTART:20260308T080000
END:DAYLIGHT
BEGIN:STANDARD
TZOFFSETFROM:-0500
TZOFFSETTO:-0600
TZNAME:CST
DTSTART:20261101T070000
END:STANDARD
END:VTIMEZONE
BEGIN:VEVENT
DTSTART;TZID=America/Chicago:20250310T180000
DTEND;TZID=America/Chicago:20250310T180000
DTSTAMP:20260423T190131
CREATED:20250206T172326Z
LAST-MODIFIED:20250207T222101Z
UID:10000011-1741629600-1741629600@kimroby.com
SUMMARY:VIRTUAL EVENT - An Evening with Kimberla Lawson Roby - Baltimore County Public Library - Monday\, March 10\, 2025
DESCRIPTION:Baltimore County Public Library Virtual Event – March 10\, 2025 \nAn Evening with Kimberla Lawson Roby \nBook Lovers Bash – An Annual Celebration of Authors\, Books\, Readers\, and Reading! \n7:00 PM EST / 6:00 PM CST \nHosted by Baltimore County Public Library \nKimberla will be in conversation with \, Sonia Alcantara-Antoine\, CEO of Baltimore County Public Library!\n \nTo register\, please visit: https://events.bcpl.info/event/12915554. \n 
URL:https://kimroby.com/event/virtual-event-speaker-for-baltimore-county-public-library-monday-march-10-2025/
LOCATION:Virtual Event
ATTACH;FMTTYPE=image/jpeg:https://kimroby.com/wp-content/uploads/Kimberla-Lawson-Roby_Events-10.jpg
END:VEVENT
END:VCALENDAR