BEGIN:VCALENDAR
VERSION:2.0
PRODID:-//Kimberla Lawson Roby — Author | Speaker | Encourager - ECPv6.15.13.1//NONSGML v1.0//EN
CALSCALE:GREGORIAN
METHOD:PUBLISH
X-ORIGINAL-URL:https://kimroby.com
X-WR-CALDESC:Events for Kimberla Lawson Roby — Author | Speaker | Encourager
REFRESH-INTERVAL;VALUE=DURATION:PT1H
X-Robots-Tag:noindex
X-PUBLISHED-TTL:PT1H
BEGIN:VTIMEZONE
TZID:America/Chicago
BEGIN:DAYLIGHT
TZOFFSETFROM:-0600
TZOFFSETTO:-0500
TZNAME:CDT
DTSTART:20230312T080000
END:DAYLIGHT
BEGIN:STANDARD
TZOFFSETFROM:-0500
TZOFFSETTO:-0600
TZNAME:CST
DTSTART:20231105T070000
END:STANDARD
BEGIN:DAYLIGHT
TZOFFSETFROM:-0600
TZOFFSETTO:-0500
TZNAME:CDT
DTSTART:20240310T080000
END:DAYLIGHT
BEGIN:STANDARD
TZOFFSETFROM:-0500
TZOFFSETTO:-0600
TZNAME:CST
DTSTART:20241103T070000
END:STANDARD
BEGIN:DAYLIGHT
TZOFFSETFROM:-0600
TZOFFSETTO:-0500
TZNAME:CDT
DTSTART:20250309T080000
END:DAYLIGHT
BEGIN:STANDARD
TZOFFSETFROM:-0500
TZOFFSETTO:-0600
TZNAME:CST
DTSTART:20251102T070000
END:STANDARD
END:VTIMEZONE
BEGIN:VEVENT
DTSTART;TZID=America/Chicago:20241010T000000
DTEND;TZID=America/Chicago:20241013T000000
DTSTAMP:20260425T105511
CREATED:20240621T180656Z
LAST-MODIFIED:20240926T193131Z
UID:10000071-1728518400-1728777600@kimroby.com
SUMMARY:CINCINNATI\, OH - Speaking at The Fire Conference - Rekindling Your Passion & Walking In Purpose - Thursday\, October 10\, 2024
DESCRIPTION:THE FIRE CONFERENCE – October 10\, 2024 \n\nHosted by BTS RISE \nKimberla will serve as the afternoon Keynote Speaker\, and she will be speaking about her personal journey of Spirituality and Authenticity.\n \nShe will also be signing copies of her book\, The Woman God Created You to Be: Finding Success Through Faith—Spiritually\, Personally\, and Professionally\, as well as some of her other titles. \n  \nTo register\, please visit: https://www.thefireconference.com/events/fire-conference . \n\nTo order your copy of The Woman God Created You to Be: Finding Success Through Faith–Spiritually\, Personally\, and Professionally\, please visit:\n \nhttps://kimroby.com/bookpage_thewomangodcreatedyoutobe/.
URL:https://kimroby.com/event/cincinnati-oh-speaking-at-the-fire-conference-rekindling-your-passion-walking-in-purpose-thursday-october-10-2024/
LOCATION:GA
ATTACH;FMTTYPE=image/jpeg:https://kimroby.com/wp-content/uploads/Kimberla-Lawson-Roby_Events-10.jpg
END:VEVENT
END:VCALENDAR