BEGIN:VCALENDAR
VERSION:2.0
PRODID:-//Kimberla Lawson Roby — Author | Speaker | Encourager - ECPv6.15.13.1//NONSGML v1.0//EN
CALSCALE:GREGORIAN
METHOD:PUBLISH
X-ORIGINAL-URL:https://kimroby.com
X-WR-CALDESC:Events for Kimberla Lawson Roby — Author | Speaker | Encourager
REFRESH-INTERVAL;VALUE=DURATION:PT1H
X-Robots-Tag:noindex
X-PUBLISHED-TTL:PT1H
BEGIN:VTIMEZONE
TZID:America/Chicago
BEGIN:DAYLIGHT
TZOFFSETFROM:-0600
TZOFFSETTO:-0500
TZNAME:CDT
DTSTART:20170312T080000
END:DAYLIGHT
BEGIN:STANDARD
TZOFFSETFROM:-0500
TZOFFSETTO:-0600
TZNAME:CST
DTSTART:20171105T070000
END:STANDARD
BEGIN:DAYLIGHT
TZOFFSETFROM:-0600
TZOFFSETTO:-0500
TZNAME:CDT
DTSTART:20180311T080000
END:DAYLIGHT
BEGIN:STANDARD
TZOFFSETFROM:-0500
TZOFFSETTO:-0600
TZNAME:CST
DTSTART:20181104T070000
END:STANDARD
BEGIN:DAYLIGHT
TZOFFSETFROM:-0600
TZOFFSETTO:-0500
TZNAME:CDT
DTSTART:20190310T080000
END:DAYLIGHT
BEGIN:STANDARD
TZOFFSETFROM:-0500
TZOFFSETTO:-0600
TZNAME:CST
DTSTART:20191103T070000
END:STANDARD
END:VTIMEZONE
BEGIN:VTIMEZONE
TZID:America/New_York
BEGIN:DAYLIGHT
TZOFFSETFROM:-0500
TZOFFSETTO:-0400
TZNAME:EDT
DTSTART:20170312T070000
END:DAYLIGHT
BEGIN:STANDARD
TZOFFSETFROM:-0400
TZOFFSETTO:-0500
TZNAME:EST
DTSTART:20171105T060000
END:STANDARD
BEGIN:DAYLIGHT
TZOFFSETFROM:-0500
TZOFFSETTO:-0400
TZNAME:EDT
DTSTART:20180311T070000
END:DAYLIGHT
BEGIN:STANDARD
TZOFFSETFROM:-0400
TZOFFSETTO:-0500
TZNAME:EST
DTSTART:20181104T060000
END:STANDARD
BEGIN:DAYLIGHT
TZOFFSETFROM:-0500
TZOFFSETTO:-0400
TZNAME:EDT
DTSTART:20190310T070000
END:DAYLIGHT
BEGIN:STANDARD
TZOFFSETFROM:-0400
TZOFFSETTO:-0500
TZNAME:EST
DTSTART:20191103T060000
END:STANDARD
END:VTIMEZONE
BEGIN:VEVENT
DTSTART;TZID=America/Chicago:20180731T190000
DTEND;TZID=America/Chicago:20180731T190000
DTSTAMP:20260423T205519
CREATED:20180420T180929Z
LAST-MODIFIED:20180420T183426Z
UID:10000036-1533063600-1533063600@kimroby.com
SUMMARY:BETTER LATE THAN NEVER - Release Tour  - ROCKFORD\, IL
DESCRIPTION:Speaking & Signing Event
URL:https://kimroby.com/event/better-late-than-never-release-tour-rockford-il/
LOCATION:Barnes & Noble – Cherryvale Mall\, 7200 Harrison Avenue\, Rockford\, IL\, 61112\, United States
ATTACH;FMTTYPE=image/jpeg:https://kimroby.com/wp-content/uploads/Kimberla-Lawson-Roby_Events.jpg
GEO:42.2461735;-88.9757903
X-APPLE-STRUCTURED-LOCATION;VALUE=URI;X-ADDRESS=Barnes & Noble – Cherryvale Mall 7200 Harrison Avenue Rockford IL 61112 United States;X-APPLE-RADIUS=500;X-TITLE=7200 Harrison Avenue:geo:-88.9757903,42.2461735
END:VEVENT
BEGIN:VEVENT
DTSTART;TZID=America/Chicago:20180801T190000
DTEND;TZID=America/Chicago:20180801T190000
DTSTAMP:20260423T205519
CREATED:20180420T180928Z
LAST-MODIFIED:20180420T185016Z
UID:10000034-1533150000-1533150000@kimroby.com
SUMMARY:BETTER LATE THAN NEVER - Release Tour - DALLAS\, TX
DESCRIPTION:Speaking & Signing Event
URL:https://kimroby.com/event/better-late-than-never-release-tour-dallas-tx/
LOCATION:Barnes & Noble – Lincoln Park\, 7700 West Northwest Hwy\, Dallas\, TX\, 75225\, United States
ATTACH;FMTTYPE=image/jpeg:https://kimroby.com/wp-content/uploads/Kimberla-Lawson-Roby_Events.jpg
END:VEVENT
BEGIN:VEVENT
DTSTART;TZID=America/Chicago:20180802T180000
DTEND;TZID=America/Chicago:20180802T180000
DTSTAMP:20260423T205519
CREATED:20180420T180928Z
LAST-MODIFIED:20180420T184853Z
UID:10000033-1533232800-1533232800@kimroby.com
SUMMARY:BETTER LATE THAN NEVER - Release Tour - BATON ROUGE\, LA
DESCRIPTION:Speaking & Signing Event – Books will be sold by Between the Lines Bookstore.
URL:https://kimroby.com/event/better-late-than-never-release-tour-baton-rouge-la/
LOCATION:Baton Rouge Community College\, 201 Community College Drive\, Baton Rouge\, LA\, 70806\, United States
ATTACH;FMTTYPE=image/jpeg:https://kimroby.com/wp-content/uploads/Kimberla-Lawson-Roby_Events.jpg
ORGANIZER;CN="Kim Knight - Between the Lines Bookstore":MAILTO:kknight_99@msn.com
GEO:30.4480275;-91.1368762
X-APPLE-STRUCTURED-LOCATION;VALUE=URI;X-ADDRESS=Baton Rouge Community College 201 Community College Drive Baton Rouge LA 70806 United States;X-APPLE-RADIUS=500;X-TITLE=201 Community College Drive:geo:-91.1368762,30.4480275
END:VEVENT
BEGIN:VEVENT
DTSTART;TZID=America/Chicago:20180803T190000
DTEND;TZID=America/Chicago:20180803T190000
DTSTAMP:20260423T205519
CREATED:20180420T180928Z
LAST-MODIFIED:20180420T184544Z
UID:10000035-1533322800-1533322800@kimroby.com
SUMMARY:BETTER LATE THAN NEVER - Release Tour - MEMPHIS\, TN
DESCRIPTION:Speaking & Signing Event
URL:https://kimroby.com/event/better-late-than-never-release-tour-memphis-tn/
LOCATION:Barnes & Noble – Wolfchase Galleria\, 2774 N Germantown Parkway\, Memphis\, TN\, 38133\, United States
ATTACH;FMTTYPE=image/jpeg:https://kimroby.com/wp-content/uploads/Kimberla-Lawson-Roby_Events.jpg
GEO:35.2010813;-89.7912488
X-APPLE-STRUCTURED-LOCATION;VALUE=URI;X-ADDRESS=Barnes & Noble – Wolfchase Galleria 2774 N Germantown Parkway Memphis TN 38133 United States;X-APPLE-RADIUS=500;X-TITLE=2774 N Germantown Parkway:geo:-89.7912488,35.2010813
END:VEVENT
BEGIN:VEVENT
DTSTART;TZID=America/New_York:20180804T140000
DTEND;TZID=America/New_York:20180804T140000
DTSTAMP:20260423T205519
CREATED:20180420T180927Z
LAST-MODIFIED:20180420T184326Z
UID:10000044-1533391200-1533391200@kimroby.com
SUMMARY:BETTER LATE THAN NEVER - Release Tour - CHARLOTTE\, NC
DESCRIPTION:Speaking & Signing Event
URL:https://kimroby.com/event/better-late-than-never-release-tour-charlotte-nc/
LOCATION:Barnes & Noble – Carolina Place Mall\, 11025 Carolina Place Parkway\, Pineville\, NC\, 28134\, United States
ATTACH;FMTTYPE=image/jpeg:https://kimroby.com/wp-content/uploads/Kimberla-Lawson-Roby_Events.jpg
GEO:35.082673;-80.8768664
X-APPLE-STRUCTURED-LOCATION;VALUE=URI;X-ADDRESS=Barnes & Noble – Carolina Place Mall 11025 Carolina Place Parkway Pineville NC 28134 United States;X-APPLE-RADIUS=500;X-TITLE=11025 Carolina Place Parkway:geo:-80.8768664,35.082673
END:VEVENT
BEGIN:VEVENT
DTSTART;TZID=America/New_York:20180806T180000
DTEND;TZID=America/New_York:20180806T180000
DTSTAMP:20260423T205519
CREATED:20180420T180927Z
LAST-MODIFIED:20180420T184112Z
UID:10000015-1533578400-1533578400@kimroby.com
SUMMARY:BETTER LATE THAN NEVER - Release Tour - FORT LAUDERDALE\, FL
DESCRIPTION:Speaking & Signing Event – Books will be sold by Pyramid Books.
URL:https://kimroby.com/event/better-late-than-never-release-tour-fort-lauderdale-fl/
LOCATION:African-American Research Library & Cultural Center\, 2650 Sistrunk Boulevard\, Fort Lauderdale\, FL\, 33311\, United States
ATTACH;FMTTYPE=image/jpeg:https://kimroby.com/wp-content/uploads/Kimberla-Lawson-Roby_Events.jpg
END:VEVENT
BEGIN:VEVENT
DTSTART;TZID=America/New_York:20180807T190000
DTEND;TZID=America/New_York:20180807T190000
DTSTAMP:20260423T205519
CREATED:20180420T180927Z
LAST-MODIFIED:20180420T183931Z
UID:10000031-1533668400-1533668400@kimroby.com
SUMMARY:BETTER LATE THAN NEVER - Release Tour - ATLANTA\, GA
DESCRIPTION:Speaking & Signing
URL:https://kimroby.com/event/better-late-than-never-release-tour-atlanta-ga/
LOCATION:Barnes & Noble – Edgewood Retail District\, 1217 Caroline Street\, Atlanta\, GA\, 30307\, United States
ATTACH;FMTTYPE=image/jpeg:https://kimroby.com/wp-content/uploads/Kimberla-Lawson-Roby_Events.jpg
GEO:33.7582964;-84.3486592
X-APPLE-STRUCTURED-LOCATION;VALUE=URI;X-ADDRESS=Barnes & Noble – Edgewood Retail District 1217 Caroline Street Atlanta GA 30307 United States;X-APPLE-RADIUS=500;X-TITLE=1217 Caroline Street:geo:-84.3486592,33.7582964
END:VEVENT
BEGIN:VEVENT
DTSTART;TZID=America/New_York:20180808T183000
DTEND;TZID=America/New_York:20180808T183000
DTSTAMP:20260423T205519
CREATED:20180420T180927Z
LAST-MODIFIED:20180420T183756Z
UID:10000032-1533753000-1533753000@kimroby.com
SUMMARY:BETTER LATE THAN NEVER - Release Tour - BALTIMORE\, MD
DESCRIPTION:Speaking & Signing Event – Books will be sold by Mahogany Books.
URL:https://kimroby.com/event/better-late-than-never-release-tour-baltimore-md/
LOCATION:Enoch Pratt Free Library\, 400 Cathedral Street\, Baltimore\, MD\, 21201\, United States
ATTACH;FMTTYPE=image/jpeg:https://kimroby.com/wp-content/uploads/Kimberla-Lawson-Roby_Events.jpg
END:VEVENT
BEGIN:VEVENT
DTSTART;TZID=America/Chicago:20180809T190000
DTEND;TZID=America/Chicago:20180809T190000
DTSTAMP:20260423T205519
CREATED:20180420T180926Z
LAST-MODIFIED:20180420T183618Z
UID:10000043-1533841200-1533841200@kimroby.com
SUMMARY:BETTER LATE THAN NEVER - Release Tour - CHICAGO\, IL (South)
DESCRIPTION:Speaking & Signing Event
URL:https://kimroby.com/event/better-late-than-never-release-tour-chicago-il-south/
LOCATION:Barnes & Noble – Orland Park\, 160 Orland Park Place\, Orland Park\, IL\, 60462\, United States
ATTACH;FMTTYPE=image/jpeg:https://kimroby.com/wp-content/uploads/Kimberla-Lawson-Roby_Events.jpg
END:VEVENT
END:VCALENDAR