BEGIN:VCALENDAR
VERSION:2.0
PRODID:-//Kimberla Lawson Roby — Author | Speaker | Encourager - ECPv6.15.13.1//NONSGML v1.0//EN
CALSCALE:GREGORIAN
METHOD:PUBLISH
X-ORIGINAL-URL:https://kimroby.com
X-WR-CALDESC:Events for Kimberla Lawson Roby — Author | Speaker | Encourager
REFRESH-INTERVAL;VALUE=DURATION:PT1H
X-Robots-Tag:noindex
X-PUBLISHED-TTL:PT1H
BEGIN:VTIMEZONE
TZID:America/Chicago
BEGIN:DAYLIGHT
TZOFFSETFROM:-0600
TZOFFSETTO:-0500
TZNAME:CDT
DTSTART:20170312T080000
END:DAYLIGHT
BEGIN:STANDARD
TZOFFSETFROM:-0500
TZOFFSETTO:-0600
TZNAME:CST
DTSTART:20171105T070000
END:STANDARD
BEGIN:DAYLIGHT
TZOFFSETFROM:-0600
TZOFFSETTO:-0500
TZNAME:CDT
DTSTART:20180311T080000
END:DAYLIGHT
BEGIN:STANDARD
TZOFFSETFROM:-0500
TZOFFSETTO:-0600
TZNAME:CST
DTSTART:20181104T070000
END:STANDARD
BEGIN:DAYLIGHT
TZOFFSETFROM:-0600
TZOFFSETTO:-0500
TZNAME:CDT
DTSTART:20190310T080000
END:DAYLIGHT
BEGIN:STANDARD
TZOFFSETFROM:-0500
TZOFFSETTO:-0600
TZNAME:CST
DTSTART:20191103T070000
END:STANDARD
BEGIN:DAYLIGHT
TZOFFSETFROM:-0600
TZOFFSETTO:-0500
TZNAME:CDT
DTSTART:20200308T080000
END:DAYLIGHT
BEGIN:STANDARD
TZOFFSETFROM:-0500
TZOFFSETTO:-0600
TZNAME:CST
DTSTART:20201101T070000
END:STANDARD
BEGIN:DAYLIGHT
TZOFFSETFROM:-0600
TZOFFSETTO:-0500
TZNAME:CDT
DTSTART:20210314T080000
END:DAYLIGHT
BEGIN:STANDARD
TZOFFSETFROM:-0500
TZOFFSETTO:-0600
TZNAME:CST
DTSTART:20211107T070000
END:STANDARD
BEGIN:DAYLIGHT
TZOFFSETFROM:-0600
TZOFFSETTO:-0500
TZNAME:CDT
DTSTART:20220313T080000
END:DAYLIGHT
BEGIN:STANDARD
TZOFFSETFROM:-0500
TZOFFSETTO:-0600
TZNAME:CST
DTSTART:20221106T070000
END:STANDARD
BEGIN:DAYLIGHT
TZOFFSETFROM:-0600
TZOFFSETTO:-0500
TZNAME:CDT
DTSTART:20230312T080000
END:DAYLIGHT
BEGIN:STANDARD
TZOFFSETFROM:-0500
TZOFFSETTO:-0600
TZNAME:CST
DTSTART:20231105T070000
END:STANDARD
BEGIN:DAYLIGHT
TZOFFSETFROM:-0600
TZOFFSETTO:-0500
TZNAME:CDT
DTSTART:20240310T080000
END:DAYLIGHT
BEGIN:STANDARD
TZOFFSETFROM:-0500
TZOFFSETTO:-0600
TZNAME:CST
DTSTART:20241103T070000
END:STANDARD
BEGIN:DAYLIGHT
TZOFFSETFROM:-0600
TZOFFSETTO:-0500
TZNAME:CDT
DTSTART:20250309T080000
END:DAYLIGHT
BEGIN:STANDARD
TZOFFSETFROM:-0500
TZOFFSETTO:-0600
TZNAME:CST
DTSTART:20251102T070000
END:STANDARD
BEGIN:DAYLIGHT
TZOFFSETFROM:-0600
TZOFFSETTO:-0500
TZNAME:CDT
DTSTART:20260308T080000
END:DAYLIGHT
BEGIN:STANDARD
TZOFFSETFROM:-0500
TZOFFSETTO:-0600
TZNAME:CST
DTSTART:20261101T070000
END:STANDARD
END:VTIMEZONE
BEGIN:VTIMEZONE
TZID:America/Los_Angeles
BEGIN:DAYLIGHT
TZOFFSETFROM:-0800
TZOFFSETTO:-0700
TZNAME:PDT
DTSTART:20170312T100000
END:DAYLIGHT
BEGIN:STANDARD
TZOFFSETFROM:-0700
TZOFFSETTO:-0800
TZNAME:PST
DTSTART:20171105T090000
END:STANDARD
BEGIN:DAYLIGHT
TZOFFSETFROM:-0800
TZOFFSETTO:-0700
TZNAME:PDT
DTSTART:20180311T100000
END:DAYLIGHT
BEGIN:STANDARD
TZOFFSETFROM:-0700
TZOFFSETTO:-0800
TZNAME:PST
DTSTART:20181104T090000
END:STANDARD
BEGIN:DAYLIGHT
TZOFFSETFROM:-0800
TZOFFSETTO:-0700
TZNAME:PDT
DTSTART:20190310T100000
END:DAYLIGHT
BEGIN:STANDARD
TZOFFSETFROM:-0700
TZOFFSETTO:-0800
TZNAME:PST
DTSTART:20191103T090000
END:STANDARD
END:VTIMEZONE
BEGIN:VTIMEZONE
TZID:America/New_York
BEGIN:DAYLIGHT
TZOFFSETFROM:-0500
TZOFFSETTO:-0400
TZNAME:EDT
DTSTART:20250309T070000
END:DAYLIGHT
BEGIN:STANDARD
TZOFFSETFROM:-0400
TZOFFSETTO:-0500
TZNAME:EST
DTSTART:20251102T060000
END:STANDARD
BEGIN:DAYLIGHT
TZOFFSETFROM:-0500
TZOFFSETTO:-0400
TZNAME:EDT
DTSTART:20260308T070000
END:DAYLIGHT
BEGIN:STANDARD
TZOFFSETFROM:-0400
TZOFFSETTO:-0500
TZNAME:EST
DTSTART:20261101T060000
END:STANDARD
BEGIN:DAYLIGHT
TZOFFSETFROM:-0500
TZOFFSETTO:-0400
TZNAME:EDT
DTSTART:20270314T070000
END:DAYLIGHT
BEGIN:STANDARD
TZOFFSETFROM:-0400
TZOFFSETTO:-0500
TZNAME:EST
DTSTART:20271107T060000
END:STANDARD
END:VTIMEZONE
BEGIN:VEVENT
DTSTART;VALUE=DATE:20180406
DTEND;VALUE=DATE:20180408
DTSTAMP:20260423T154434
CREATED:20171102T201041Z
LAST-MODIFIED:20180307T192548Z
UID:10000047-1522972800-1523145599@kimroby.com
SUMMARY:3rd Annual Kept Woman of God Conference
DESCRIPTION:KEYNOTE SPEAKER  –  Q & A and Signing to Follow   –   Registration Cost – $75.00  – Includes: Swag Bag\, Continental Breakfast\, Lunch\, and Fashion Show! \n 
URL:https://kimroby.com/event/3rd-annual-kept-woman-of-god-conference/
LOCATION:Memorial Church International\, 11424 Hickman Mills Drive\, Kansas City\, MO\, 64134\, United States
ATTACH;FMTTYPE=image/jpeg:https://kimroby.com/wp-content/uploads/Kimberla-Lawson-Roby_Events.jpg
ORGANIZER;CN="Kept Woman of God":MAILTO:keptwoman07@gmail.com
GEO:38.9165239;-94.5249091
X-APPLE-STRUCTURED-LOCATION;VALUE=URI;X-ADDRESS=Memorial Church International 11424 Hickman Mills Drive Kansas City MO 64134 United States;X-APPLE-RADIUS=500;X-TITLE=11424 Hickman Mills Drive:geo:-94.5249091,38.9165239
END:VEVENT
BEGIN:VEVENT
DTSTART;VALUE=DATE:20180504
DTEND;VALUE=DATE:20180507
DTSTAMP:20260423T154434
CREATED:20171024T162815Z
LAST-MODIFIED:20180426T010352Z
UID:10000046-1525392000-1525651199@kimroby.com
SUMMARY:Empowered Woman Conference 2018
DESCRIPTION:KEYNOTE SPEAKER  –  Q & A and Signing to Follow   –   Saturday\, May 5\, 2018 – 10:30 AM   –   3-Day Conference – $65.00; Saturday Only – $40.00
URL:https://kimroby.com/event/empowered-women-regional-conference-2018/
LOCATION:Solomon Temple Ministries International\, 655 California Avenue\, Pittsburg\, CA\, 94565\, United States
ATTACH;FMTTYPE=image/jpeg:https://kimroby.com/wp-content/uploads/Kimberla-Lawson-Roby_Events.jpg
GEO:38.015091;-121.8775632
X-APPLE-STRUCTURED-LOCATION;VALUE=URI;X-ADDRESS=Solomon Temple Ministries International 655 California Avenue Pittsburg CA 94565 United States;X-APPLE-RADIUS=500;X-TITLE=655 California Avenue:geo:-121.8775632,38.015091
END:VEVENT
BEGIN:VEVENT
DTSTART;VALUE=DATE:20180922
DTEND;VALUE=DATE:20180923
DTSTAMP:20260423T154434
CREATED:20171102T214555Z
LAST-MODIFIED:20180910T205237Z
UID:10000048-1537574400-1537660799@kimroby.com
SUMMARY:A Literary Retreat for Women Who Love to Read - Scottsdale\, AZ
DESCRIPTION:KEYNOTE SPEAKER  –  Kimberla is the Keynote Speaker for the retreat with a Q &amp A and Signing to Follow  –  To register for the retreat\, please email Ruth Bridges at avivatravel@aol.com or call (602) 441-0034.  Additionally\, a one-day trip up to beautiful Sedona\, AZ is also being offered\, and the optional bus trip on Friday\, September 21\, 2018 is $99.00 for women registered for the retreat.  For husbands and other guests\, the bus trip is $129.00.  Payment for the bus trip is due by March 1\, 2018.  A hotel rate of $145.00 has also been confirmed at Embassy Suites for retreat attendees.
URL:https://kimroby.com/event/a-literary-retreat-for-women-who-love-to-read/
LOCATION:Embassy Suites by Hilton Scottsdale Resort\, 5001 N. Scottsdale Road\, Scottsdale\, AZ\, 85250\, United States
ATTACH;FMTTYPE=image/jpeg:https://kimroby.com/wp-content/uploads/Kimberla-Lawson-Roby_Events.jpg
ORGANIZER;CN="Ruth Bridges":MAILTO:avivatravel@aol.com
GEO:33.5101085;-111.9243909
X-APPLE-STRUCTURED-LOCATION;VALUE=URI;X-ADDRESS=Embassy Suites by Hilton Scottsdale Resort 5001 N. Scottsdale Road Scottsdale AZ 85250 United States;X-APPLE-RADIUS=500;X-TITLE=5001 N. Scottsdale Road:geo:-111.9243909,33.5101085
END:VEVENT
BEGIN:VEVENT
DTSTART;TZID=America/Chicago:20181103T100000
DTEND;TZID=America/Chicago:20181103T140000
DTSTAMP:20260423T154434
CREATED:20180910T201125Z
LAST-MODIFIED:20180910T205322Z
UID:10000028-1541239200-1541253600@kimroby.com
SUMMARY:A Purpose-Driven Woman Conference - Chicago\, IL
DESCRIPTION:KEYNOTE SPEAKER – Kimberla is the Keynote Speaker for A Purpose-Driven Woman Conference hosted by Visionary & Speaker\, Felicia Shakespeare. Additionally\, the power panel speakers and power network leaders include: Kesia King\, Katherine Darnstadt\, Shuntella Richardson\, Tasha White\, Lesley Etherly\, Kathleen Quinn\, Deborah Gray-Young\, and Kayte Malik. Registration is $49 (before October 22\, 2018) and $59 (after October 22\, 2018).
URL:https://kimroby.com/event/a-purpose-driven-woman-conference-chicago-il/
LOCATION:Sanctuary\, 1400 S. Michigan Avenue\, Chicago\, IL\, 60605\, United States
ATTACH;FMTTYPE=image/jpeg:https://kimroby.com/wp-content/uploads/Kimberla-Lawson-Roby_Events-10.jpg
END:VEVENT
BEGIN:VEVENT
DTSTART;VALUE=DATE:20240622
DTEND;VALUE=DATE:20240623
DTSTAMP:20260423T154434
CREATED:20240106T175637Z
LAST-MODIFIED:20240621T181751Z
UID:10000067-1719014400-1719100799@kimroby.com
SUMMARY:MILWAUKEE\, WI - Speaking at the 16th Annual Great Midwest Book Fest - Saturday\, June 22\, 2024
DESCRIPTION:16th ANNUAL GREAT MIDWEST BOOK FEST – Saturday\, June 22\, 2024 \n  \nPresented by:  Radiah Hubbert\, founder of Urban Reviews \nLocation: \nXchange Event & Creative Space \nTo register\, please visit: https://www.eventbrite.com/e/16th-annual-great-midwest-book-fest-tickets-858266788067! \nKimberla will be speaking and signing copies of her book\, The Woman God Created You to Be: Finding Success Through Faith – Spiritually\, Personally\, and Professionally.
URL:https://kimroby.com/event/16th-great-midwest-book-fest/
LOCATION:Xchange Event & Creative Space\, 3334 N. Holton Street\, Milwaukee\, WI\, 53212\, United States
ATTACH;FMTTYPE=image/jpeg:https://kimroby.com/wp-content/uploads/Kimberla-Lawson-Roby_Events-10.jpg
END:VEVENT
BEGIN:VEVENT
DTSTART;TZID=America/Chicago:20240802T080000
DTEND;TZID=America/Chicago:20240805T000000
DTSTAMP:20260423T154434
CREATED:20240106T181558Z
LAST-MODIFIED:20240812T173344Z
UID:10000068-1722585600-1722816000@kimroby.com
SUMMARY:ATLANTA\, GA - Speaking at the National Book Club Conference 20th Anniversary Celebration - August 2 - 4\, 2024
DESCRIPTION:NATIONAL BOOK CLUB CONFERENCE – August 2 – 4\, 2024\n\nKimberla will be speaking and signing copies of her nonfiction book and latest novel (please see below).\n\nThe Woman God Created You to Be: Finding Success Through Faith—Spiritually\, Personally\, and Professionally \nSister Friends Forever \nSo please join Kimberla\, lots of amazing authors\, book clubs and readers in Atlanta\, GA! \nTo register\, please visit:\nhttp://www.nationalbookclubconference.com/ \nLocation: \nThe Westin Buckhead Atlanta\n3391 Peachtree Road\, N.E.\nAtlanta\, GA 30326 \n  \n 
URL:https://kimroby.com/event/national-book-club-conference-20th-anniversary-celebration-atlanta-ga-august-2-4-2024/
LOCATION:The Westin Buckhead Atlanta\, 3391 Peachtree Road\, N.E.\, Atlanta\, GA\, 30326\, United States
ATTACH;FMTTYPE=image/jpeg:https://kimroby.com/wp-content/uploads/Kimberla-Lawson-Roby_Events-10.jpg
END:VEVENT
BEGIN:VEVENT
DTSTART;TZID=America/Chicago:20241005T100000
DTEND;TZID=America/Chicago:20241005T113000
DTSTAMP:20260423T154434
CREATED:20240731T011127Z
LAST-MODIFIED:20240926T193225Z
UID:10000072-1728122400-1728127800@kimroby.com
SUMMARY:CLEVELAND\, OH - Speaking at the Great Lakes African American Writers Conference - Saturday\, October 5\, 2024
DESCRIPTION:Great Lakes African American Writers Conference – October 10\, 2024 \n\nHosted by GLAAWC \nKimberla will serve as the Langston Hughes Keynote Speaker with a Q & A Session to follow.\n \nShe will also be signing copies of her book\, The Woman God Created You to Be: Finding Success Through Faith—Spiritually\, Personally\, and Professionally\, as well as some of her other titles. \n  \nLocation: Cleveland Public Library – Lakeshore Branch \n  \nhttps://www.glaawc.us/  \n  \nwww.kimroby.com/speaking
URL:https://kimroby.com/event/cleveland-oh-october-5-2024/
LOCATION:Cleveland Public Library – Lakeshore Branch\, 17133 Lakeshore Boulevard\, Cleveland\, OH\, 44110\, United States
ATTACH;FMTTYPE=image/jpeg:https://kimroby.com/wp-content/uploads/Kimberla-Lawson-Roby_Events-10.jpg
END:VEVENT
BEGIN:VEVENT
DTSTART;TZID=America/Chicago:20241010T000000
DTEND;TZID=America/Chicago:20241013T000000
DTSTAMP:20260423T154434
CREATED:20240621T180656Z
LAST-MODIFIED:20240926T193131Z
UID:10000071-1728518400-1728777600@kimroby.com
SUMMARY:CINCINNATI\, OH - Speaking at The Fire Conference - Rekindling Your Passion & Walking In Purpose - Thursday\, October 10\, 2024
DESCRIPTION:THE FIRE CONFERENCE – October 10\, 2024 \n\nHosted by BTS RISE \nKimberla will serve as the afternoon Keynote Speaker\, and she will be speaking about her personal journey of Spirituality and Authenticity.\n \nShe will also be signing copies of her book\, The Woman God Created You to Be: Finding Success Through Faith—Spiritually\, Personally\, and Professionally\, as well as some of her other titles. \n  \nTo register\, please visit: https://www.thefireconference.com/events/fire-conference . \n\nTo order your copy of The Woman God Created You to Be: Finding Success Through Faith–Spiritually\, Personally\, and Professionally\, please visit:\n \nhttps://kimroby.com/bookpage_thewomangodcreatedyoutobe/.
URL:https://kimroby.com/event/cincinnati-oh-speaking-at-the-fire-conference-rekindling-your-passion-walking-in-purpose-thursday-october-10-2024/
LOCATION:GA
ATTACH;FMTTYPE=image/jpeg:https://kimroby.com/wp-content/uploads/Kimberla-Lawson-Roby_Events-10.jpg
END:VEVENT
BEGIN:VEVENT
DTSTART;TZID=America/Chicago:20241019T110000
DTEND;TZID=America/Chicago:20241020T110000
DTSTAMP:20260423T154434
CREATED:20241006T210241Z
LAST-MODIFIED:20241006T210420Z
UID:10000073-1729335600-1729422000@kimroby.com
SUMMARY:INDIANAPOLIS\, IN - Speaking at First Baptist Church North Indianapolis Women's Day Luncheon - Saturday\, October 19\, 2024
DESCRIPTION:Celebrating Women’s Day Weekend – Saturday & Sunday\, October 19-20\, 2024 \n  \nDuring the luncheon on Saturday\, October 19\, 2024\, Kimberla will serve as the Guest Speaker\, and this year’s Women’s Day theme is\, “Are You Dressed for The Battle?” — Ephesians 6:10-18 \n\nHosted by: First Baptist Church North Indianapolis Women’s Ministry \n  \nKimberla will also be signing copies of her book\, The Woman God Created You to Be: Finding Success Through Faith—Spiritually\, Personally\, and Professionally\, on Saturday at the luncheon and also after morning service on Sunday\, October 20\, 2024. \n  \nChurch Email Address:  FirstBaptistIndy@gmail.com \n  \nPastor: Ivan D. Hicks\, Ph.D \nFirst Lady and Women’s Day Co-Chair: Mrs. Christia Hicks \nWomen’s Day Co-Chair: Minister Marie Highbaugh \n\nCopies of the book will be available for purchase or to order copies online\, please visit:\n \nhttps://kimroby.com/bookpage_thewomangodcreatedyoutobe/.
URL:https://kimroby.com/event/first-baptist-church-north-indianapolis-womens-day/
LOCATION:First Baptist Church North Indianapolis\, 880 West 28th Street\, Indianapolis\, IN\, 46208\, United States
ATTACH;FMTTYPE=image/jpeg:https://kimroby.com/wp-content/uploads/Kimberla-Lawson-Roby_Events-10.jpg
END:VEVENT
BEGIN:VEVENT
DTSTART;TZID=America/Chicago:20250310T180000
DTEND;TZID=America/Chicago:20250310T180000
DTSTAMP:20260423T154434
CREATED:20250206T172326Z
LAST-MODIFIED:20250207T222101Z
UID:10000011-1741629600-1741629600@kimroby.com
SUMMARY:VIRTUAL EVENT - An Evening with Kimberla Lawson Roby - Baltimore County Public Library - Monday\, March 10\, 2025
DESCRIPTION:Baltimore County Public Library Virtual Event – March 10\, 2025 \nAn Evening with Kimberla Lawson Roby \nBook Lovers Bash – An Annual Celebration of Authors\, Books\, Readers\, and Reading! \n7:00 PM EST / 6:00 PM CST \nHosted by Baltimore County Public Library \nKimberla will be in conversation with \, Sonia Alcantara-Antoine\, CEO of Baltimore County Public Library!\n \nTo register\, please visit: https://events.bcpl.info/event/12915554. \n 
URL:https://kimroby.com/event/virtual-event-speaker-for-baltimore-county-public-library-monday-march-10-2025/
LOCATION:Virtual Event
ATTACH;FMTTYPE=image/jpeg:https://kimroby.com/wp-content/uploads/Kimberla-Lawson-Roby_Events-10.jpg
END:VEVENT
BEGIN:VEVENT
DTSTART;TZID=America/Chicago:20250327T110000
DTEND;TZID=America/Chicago:20250327T110000
DTSTAMP:20260423T154434
CREATED:20250303T215011Z
LAST-MODIFIED:20250319T165644Z
UID:10000012-1743073200-1743073200@kimroby.com
SUMMARY:PRINCESS ANNE\, MD - Keynote Speaker at University of Maryland Eastern Shore - Women's History Month Luncheon - Thursday\, March 27\, 2025
DESCRIPTION:UNIVERSITY OF MARYLAND EASTERN SHORE – WOMEN’S HISTORY MONTH LUNCHEON – March 27\, 2025 \n  \nKimberla will serve as the luncheon Keynote Speaker.\n \n 
URL:https://kimroby.com/event/keynote-speaker-at-university-of-maryland-eastern-shore/
LOCATION:University of Maryland Eastern Shore\, 11868 College Backbone Road\, Princess Anne\, MD\, 21853\, United States
ATTACH;FMTTYPE=image/jpeg:https://kimroby.com/wp-content/uploads/Kimberla-Lawson-Roby_Events-10.jpg
END:VEVENT
BEGIN:VEVENT
DTSTART;TZID=America/Chicago:20250329T180000
DTEND;TZID=America/Chicago:20250329T180000
DTSTAMP:20260423T154434
CREATED:20250205T200947Z
LAST-MODIFIED:20250205T201602Z
UID:10000074-1743271200-1743271200@kimroby.com
SUMMARY:ROCKFORD\, IL - Keynote Speaker for The Woman Who Lead Gala - A Black Tie Event - Saturday\, March 29\, 2025
DESCRIPTION:THE WOMEN WHO LEAD GALA – A BLACK TIE EVENT – March 29\, 2025 \n\nHosted by Women & Wealth \nKimberla will serve as the evening Keynote Speaker.\n \nTo register\, please visit: https://www.womenandwealth.org/gala2025. \n 
URL:https://kimroby.com/event/rockford-il-speaking-at-the-woman-who-lead-gala-a-black-tie-event-saturday-march-29-2025/
LOCATION:Cliffbreakers Riverside Hotel & Conference Center\, 700 W. Riverside Boulevard\, Rockford\, IL\, 61103\, United States
ATTACH;FMTTYPE=image/jpeg:https://kimroby.com/wp-content/uploads/Kimberla-Lawson-Roby_Events-10.jpg
END:VEVENT
BEGIN:VEVENT
DTSTART;VALUE=DATE:20250824
DTEND;VALUE=DATE:20250828
DTSTAMP:20260423T154434
CREATED:20250319T164812Z
LAST-MODIFIED:20250319T165541Z
UID:10000013-1755993600-1756339199@kimroby.com
SUMMARY:SEDONA\, AZ - Keynote Speaker at Vibe Fest 2025 hosted by Paradise + Vibe - Sunday - Wednesday\, August 24 - 27\, 2025!
DESCRIPTION:VIBE FEST 2025 hosted by Paradise + Vibe – August 24 – 27\, 2025! \n  \nKimberla will serve as a retreat Keynote Speaker.\n \nYou also don’t want to miss hearing Issa Rae’s keynote session either\, so please join Kimberla and all the other amazing women who will be attending this awesome retreat! \nTo register\, please visit: https://paradiseandvibe.com/vibe-fest-interest/. \n  \n  \n 
URL:https://kimroby.com/event/sedona-az-keynote-speaker-at-vibe-fest-2025-hosted-by-paradise-vibe-sunday-wednesday-august-24-27-2025/
LOCATION:Sedona\, AZ
ATTACH;FMTTYPE=image/jpeg:https://kimroby.com/wp-content/uploads/Kimberla-Lawson-Roby_Events-10.jpg
END:VEVENT
BEGIN:VEVENT
DTSTART;TZID=America/Chicago:20251004T100000
DTEND;TZID=America/Chicago:20251004T100000
DTSTAMP:20260423T154434
CREATED:20250515T154512Z
LAST-MODIFIED:20250902T172528Z
UID:10000014-1759572000-1759572000@kimroby.com
SUMMARY:TARRANT\, AL (Birmingham Area) - Keynote Speaker at First Missionary Baptist Church East Boyles - Annual Scholarship Fundraiser - Saturday\, October 4\, 2025
DESCRIPTION:Annual Scholarship Fundraiser at First Missionary Baptist Church East Boyles – Saturday October 4\, 2025 \nDuring the fundraiser event on Saturday\, October 4\, 2025\, Kimberla will serve as the Keynote Speaker.  \n\nHosted by: First Missionary Baptist Church East Boyles Scholarship Committee  \nDirector: Donna Carmichael  \nCommittee Contact: Arnena Burnell Thomas \nKimberla will also be signing copies of her book\, The Woman God Created You to Be: Finding Success Through Faith—Spiritually\, Personally\, and Professionally\, on Saturday. \nCopies of the book will be available for purchase. \n  \nTo register\, please visit: \nhttps://docs.google.com/forms/d/e/1FAIpQLSfesfGxsIIPN5MDnAxXdyNEPmoi-TDI6nA6y-Jx9GIlxI5O5Q/viewform   \nhttp://www.kimroby.com \n  \n  \n 
URL:https://kimroby.com/event/first-missionary-baptist-church/
LOCATION:First Missionary Baptist Church East Boyles\, 318 Jefferson Boulevard\, Tarrant\, AL\, 35217
ATTACH;FMTTYPE=image/jpeg:https://kimroby.com/wp-content/uploads/Kimberla-Lawson-Roby_Events-10.jpg
END:VEVENT
BEGIN:VEVENT
DTSTART;TZID=America/New_York:20260328T090000
DTEND;TZID=America/New_York:20260328T090000
DTSTAMP:20260423T154434
CREATED:20260314T180314Z
LAST-MODIFIED:20260314T184244Z
UID:10000080-1774688400-1774688400@kimroby.com
SUMMARY:AUGUSTA\, GA - Featured Speaker at Beulah Grove Baptist Church - Women's Weekend - Saturday\, March 28\, 2026 @ 9 AM
DESCRIPTION:Women’s Weekend at Beulah Grove Baptist Church – Saturday\, March 28\, 2026 @ 9 AM \nWomen Celebrating Life \nTheme: “GOD’S LOVE FOR HIS STRONG WOMEN OF VALOR” \nDuring the event\, Kimberla will serve as the Featured Speaker\, and she will be in conversation with First Lady\, Dr. Chaundra Creekmur\, who will be moderating their fireside chat. \n\nHosted by: Beulah Grove Baptist Church\, 1434 Poplar Street\, Augusta\, GA 30901 \nKimberla will also be signing copies of her book\, The Woman God Created You to Be: Finding Success Through Faith—Spiritually\, Personally\, and Professionally\, the Companion Workbook & Discussion Guide\, and other titles\, so please be sure to order copies of the The Woman God Created You to Be and/or the Companion Workbook as soon as possible\, so you can bring them with you to the event (Please check with your local bookstore\, but if they do not have copies in stock\, Amazon will usually deliver them to you within 3 days). \nTicket Cost is $35\, and lunch is included. \nTo register\, please visit: \nhttps://www.beulahgrove.org/  \n  \n  \n 
URL:https://kimroby.com/event/beulah-grove/
LOCATION:Beulah Grove Baptist Church\, 1434 Poplar Street\, Augusta\, GA\, 30901
ATTACH;FMTTYPE=image/jpeg:https://kimroby.com/wp-content/uploads/Kimberla-Lawson-Roby_Events-10.jpg
END:VEVENT
END:VCALENDAR