BEGIN:VCALENDAR
VERSION:2.0
PRODID:-//Kimberla Lawson Roby — Author | Speaker | Encourager - ECPv6.15.13.1//NONSGML v1.0//EN
CALSCALE:GREGORIAN
METHOD:PUBLISH
X-ORIGINAL-URL:https://kimroby.com
X-WR-CALDESC:Events for Kimberla Lawson Roby — Author | Speaker | Encourager
REFRESH-INTERVAL;VALUE=DURATION:PT1H
X-Robots-Tag:noindex
X-PUBLISHED-TTL:PT1H
BEGIN:VTIMEZONE
TZID:America/Chicago
BEGIN:DAYLIGHT
TZOFFSETFROM:-0600
TZOFFSETTO:-0500
TZNAME:CDT
DTSTART:20230312T080000
END:DAYLIGHT
BEGIN:STANDARD
TZOFFSETFROM:-0500
TZOFFSETTO:-0600
TZNAME:CST
DTSTART:20231105T070000
END:STANDARD
BEGIN:DAYLIGHT
TZOFFSETFROM:-0600
TZOFFSETTO:-0500
TZNAME:CDT
DTSTART:20240310T080000
END:DAYLIGHT
BEGIN:STANDARD
TZOFFSETFROM:-0500
TZOFFSETTO:-0600
TZNAME:CST
DTSTART:20241103T070000
END:STANDARD
BEGIN:DAYLIGHT
TZOFFSETFROM:-0600
TZOFFSETTO:-0500
TZNAME:CDT
DTSTART:20250309T080000
END:DAYLIGHT
BEGIN:STANDARD
TZOFFSETFROM:-0500
TZOFFSETTO:-0600
TZNAME:CST
DTSTART:20251102T070000
END:STANDARD
BEGIN:DAYLIGHT
TZOFFSETFROM:-0600
TZOFFSETTO:-0500
TZNAME:CDT
DTSTART:20260308T080000
END:DAYLIGHT
BEGIN:STANDARD
TZOFFSETFROM:-0500
TZOFFSETTO:-0600
TZNAME:CST
DTSTART:20261101T070000
END:STANDARD
BEGIN:DAYLIGHT
TZOFFSETFROM:-0600
TZOFFSETTO:-0500
TZNAME:CDT
DTSTART:20270314T080000
END:DAYLIGHT
BEGIN:STANDARD
TZOFFSETFROM:-0500
TZOFFSETTO:-0600
TZNAME:CST
DTSTART:20271107T070000
END:STANDARD
END:VTIMEZONE
BEGIN:VEVENT
DTSTART;TZID=America/Chicago:20240304T173000
DTEND;TZID=America/Chicago:20240304T173000
DTSTAMP:20260423T173653
CREATED:20240216T210741Z
LAST-MODIFIED:20240216T211016Z
UID:10000069-1709573400-1709573400@kimroby.com
SUMMARY:Book Signing - SOAR Awards 2024 - Monday\, March 4\, 2024
DESCRIPTION:Book Signing \nSOAR AWARDS 2024 – Monday\, March 4\, 2024 \nGet Your Tickets Today! \nThe Soar Awards in just 7 years have become the second largest Award show in the genre of gospel music. The Soar Awards have a great blend of “production” that meets “church” celebrating gospel’s biggest artists and creating a platform to showcase some of the genre’s upcoming artists. \nThe Rockford community is welcomed to attend and celebrate gospel music’s biggest artists and the genre’s upcoming artists. This night will showcase gospel’s best and pay homage to upcoming as well as veteran acts. \nCEO/Founder:  Justin Djuane Francis \nHosted by:  Multi-Awarding-Winning Music Artist Todd Dulaney \nLocation: \nCoronado Performing Arts Center\n314 N. Main Street\nRockford\, IL 61101 \nTo purchase tickets\, please visit: \nhttps://www.ticketmaster.com/soar-awards-rockford-illinois-03-04-2024/event/04005EA48E6213CA \n  \nBook Signing: \n***Beginning at 5:30 PM during the pre-show\, Kimberla will be signing copies of her book\, The Woman God Created You to Be: Finding Success Through Faith – Spiritually\, Personally\, and Professionally.
URL:https://kimroby.com/event/soar-awards-2024-book-signing/
LOCATION:Coronado Performing Arts Center\, 314 N. Main Street\, Rockford\, IL\, 61101\, United States
ATTACH;FMTTYPE=image/jpeg:https://kimroby.com/wp-content/uploads/Kimberla-Lawson-Roby_Events-10.jpg
END:VEVENT
BEGIN:VEVENT
DTSTART;TZID=America/Chicago:20240405T180000
DTEND;TZID=America/Chicago:20240406T130000
DTSTAMP:20260423T173653
CREATED:20240106T174028Z
LAST-MODIFIED:20240106T184056Z
UID:10000066-1712340000-1712408400@kimroby.com
SUMMARY:Kept Woman of God Conference - Kansas City\, MO - Friday & Saturday\, April 5-6\, 2024
DESCRIPTION:KEPT WOMAN OF GOD CONFERENCE – Friday & Saturday\, April 5-6\, 2024 \nTheme: Chosen\, Cable & Called \nHost: Rochinda Pickens \nCo-Host: Michelle Gines \nLocation: \nGreater Works Church\n5902 Bannister Rd\nKansas City\, MO 64134 \nTo register\, please visit: \nhttps://www.rochinda.com/event-details/2024-kwog-conference-chosen-capable-called \nKimberla will be speaking on a Christian women’s panel and signing copies of her book\, The Woman God Created You to Be: Finding Success Through Faith – Spiritually\, Personally\, and Professionally.
URL:https://kimroby.com/event/kept-woman-of-god-conference-kansas-city-mo/
LOCATION:Greater Works Church\, 5902 Bannister Rd\, Kansas City\, MO\, 64134\, United States
ATTACH;FMTTYPE=image/jpeg:https://kimroby.com/wp-content/uploads/Kimberla-Lawson-Roby_Events-10.jpg
END:VEVENT
BEGIN:VEVENT
DTSTART;VALUE=DATE:20240622
DTEND;VALUE=DATE:20240623
DTSTAMP:20260423T173653
CREATED:20240106T175637Z
LAST-MODIFIED:20240621T181751Z
UID:10000067-1719014400-1719100799@kimroby.com
SUMMARY:MILWAUKEE\, WI - Speaking at the 16th Annual Great Midwest Book Fest - Saturday\, June 22\, 2024
DESCRIPTION:16th ANNUAL GREAT MIDWEST BOOK FEST – Saturday\, June 22\, 2024 \n  \nPresented by:  Radiah Hubbert\, founder of Urban Reviews \nLocation: \nXchange Event & Creative Space \nTo register\, please visit: https://www.eventbrite.com/e/16th-annual-great-midwest-book-fest-tickets-858266788067! \nKimberla will be speaking and signing copies of her book\, The Woman God Created You to Be: Finding Success Through Faith – Spiritually\, Personally\, and Professionally.
URL:https://kimroby.com/event/16th-great-midwest-book-fest/
LOCATION:Xchange Event & Creative Space\, 3334 N. Holton Street\, Milwaukee\, WI\, 53212\, United States
ATTACH;FMTTYPE=image/jpeg:https://kimroby.com/wp-content/uploads/Kimberla-Lawson-Roby_Events-10.jpg
END:VEVENT
BEGIN:VEVENT
DTSTART;TZID=America/Chicago:20240802T080000
DTEND;TZID=America/Chicago:20240805T000000
DTSTAMP:20260423T173653
CREATED:20240106T181558Z
LAST-MODIFIED:20240812T173344Z
UID:10000068-1722585600-1722816000@kimroby.com
SUMMARY:ATLANTA\, GA - Speaking at the National Book Club Conference 20th Anniversary Celebration - August 2 - 4\, 2024
DESCRIPTION:NATIONAL BOOK CLUB CONFERENCE – August 2 – 4\, 2024\n\nKimberla will be speaking and signing copies of her nonfiction book and latest novel (please see below).\n\nThe Woman God Created You to Be: Finding Success Through Faith—Spiritually\, Personally\, and Professionally \nSister Friends Forever \nSo please join Kimberla\, lots of amazing authors\, book clubs and readers in Atlanta\, GA! \nTo register\, please visit:\nhttp://www.nationalbookclubconference.com/ \nLocation: \nThe Westin Buckhead Atlanta\n3391 Peachtree Road\, N.E.\nAtlanta\, GA 30326 \n  \n 
URL:https://kimroby.com/event/national-book-club-conference-20th-anniversary-celebration-atlanta-ga-august-2-4-2024/
LOCATION:The Westin Buckhead Atlanta\, 3391 Peachtree Road\, N.E.\, Atlanta\, GA\, 30326\, United States
ATTACH;FMTTYPE=image/jpeg:https://kimroby.com/wp-content/uploads/Kimberla-Lawson-Roby_Events-10.jpg
END:VEVENT
BEGIN:VEVENT
DTSTART;TZID=America/Chicago:20260320T113000
DTEND;TZID=America/Chicago:20260320T113000
DTSTAMP:20260423T173653
CREATED:20250911T152406Z
LAST-MODIFIED:20250911T153318Z
UID:10000079-1774006200-1774006200@kimroby.com
SUMMARY:DALLAS\, TX - Honoree at 4th Annual Cheryl Magazine Women of Influence Awards - Friday\, March 20\, 2026
DESCRIPTION:4th ANNUAL CHERYL MAGAZINE WOMEN OF INFLUENCE AWARDS – Friday\, March 20\, 2026 \n  \nLocation: \nThe Statler Dallas\n1914 Commerce Street\nDallas\, TX 75201 \nTo register\, please visit: \nhttps://brushfire.com/cherylmagazine/conference/604593/details   \nKimberla\, alongside some truly incredible women\, will be honored at the luncheon. \nwww.kimroby.com \n 
URL:https://kimroby.com/event/dallas-tx-honoree-at-4th-annual-cheryl-magazine-women-of-influence-awards-friday-march-20-2026/
LOCATION:The Statler Dallas\, 1914 Commerce Street\, Dallas\, TX\, 75201
ATTACH;FMTTYPE=image/jpeg:https://kimroby.com/wp-content/uploads/Kimberla-Lawson-Roby_Events-10.jpg
END:VEVENT
BEGIN:VEVENT
DTSTART;TZID=America/Chicago:20260410T000000
DTEND;TZID=America/Chicago:20260411T000000
DTSTAMP:20260423T173653
CREATED:20250907T231347Z
LAST-MODIFIED:20250907T232924Z
UID:10000078-1775779200-1775865600@kimroby.com
SUMMARY:KANSAS CITY\, MO - Keynote Speaker at Kept Woman of God Conference - Friday & Saturday\, April 10-11\, 2026
DESCRIPTION:KEPT WOMAN OF GOD CONFERENCE – Friday & Saturday\, April 10-11\, 2026 \nTheme: The Great Balancing Act 2.0 \nHost: Rochinda Pickens \nLocation: \nKansas City\, MO \nTo register\, please visit: \nhttps://www.zeffy.com/en-US/ticketing/kept-woman-of-god-great-balancing-act–20 \nKimberla will be speaking and signing copies of her book\, The Woman God Created You to Be: Finding Success Through Faith – Spiritually\, Personally\, and Professionally and the Companion Workbook & Discussion Guide.\nwww.kimroby.com \n 
URL:https://kimroby.com/event/kept-woman-of-god-conference-2026/
LOCATION:TX
ATTACH;FMTTYPE=image/jpeg:https://kimroby.com/wp-content/uploads/Kimberla-Lawson-Roby_Events-10.jpg
END:VEVENT
END:VCALENDAR