BEGIN:VCALENDAR
VERSION:2.0
PRODID:-//Kimberla Lawson Roby — Author | Speaker | Encourager - ECPv6.15.13.1//NONSGML v1.0//EN
CALSCALE:GREGORIAN
METHOD:PUBLISH
X-ORIGINAL-URL:https://kimroby.com
X-WR-CALDESC:Events for Kimberla Lawson Roby — Author | Speaker | Encourager
REFRESH-INTERVAL;VALUE=DURATION:PT1H
X-Robots-Tag:noindex
X-PUBLISHED-TTL:PT1H
BEGIN:VTIMEZONE
TZID:America/Indiana/Indianapolis
BEGIN:DAYLIGHT
TZOFFSETFROM:-0500
TZOFFSETTO:-0400
TZNAME:EDT
DTSTART:20210314T070000
END:DAYLIGHT
BEGIN:STANDARD
TZOFFSETFROM:-0400
TZOFFSETTO:-0500
TZNAME:EST
DTSTART:20211107T060000
END:STANDARD
BEGIN:DAYLIGHT
TZOFFSETFROM:-0500
TZOFFSETTO:-0400
TZNAME:EDT
DTSTART:20220313T070000
END:DAYLIGHT
BEGIN:STANDARD
TZOFFSETFROM:-0400
TZOFFSETTO:-0500
TZNAME:EST
DTSTART:20221106T060000
END:STANDARD
BEGIN:DAYLIGHT
TZOFFSETFROM:-0500
TZOFFSETTO:-0400
TZNAME:EDT
DTSTART:20230312T070000
END:DAYLIGHT
BEGIN:STANDARD
TZOFFSETFROM:-0400
TZOFFSETTO:-0500
TZNAME:EST
DTSTART:20231105T060000
END:STANDARD
END:VTIMEZONE
BEGIN:VTIMEZONE
TZID:America/New_York
BEGIN:DAYLIGHT
TZOFFSETFROM:-0500
TZOFFSETTO:-0400
TZNAME:EDT
DTSTART:20210314T070000
END:DAYLIGHT
BEGIN:STANDARD
TZOFFSETFROM:-0400
TZOFFSETTO:-0500
TZNAME:EST
DTSTART:20211107T060000
END:STANDARD
BEGIN:DAYLIGHT
TZOFFSETFROM:-0500
TZOFFSETTO:-0400
TZNAME:EDT
DTSTART:20220313T070000
END:DAYLIGHT
BEGIN:STANDARD
TZOFFSETFROM:-0400
TZOFFSETTO:-0500
TZNAME:EST
DTSTART:20221106T060000
END:STANDARD
BEGIN:DAYLIGHT
TZOFFSETFROM:-0500
TZOFFSETTO:-0400
TZNAME:EDT
DTSTART:20230312T070000
END:DAYLIGHT
BEGIN:STANDARD
TZOFFSETFROM:-0400
TZOFFSETTO:-0500
TZNAME:EST
DTSTART:20231105T060000
END:STANDARD
END:VTIMEZONE
BEGIN:VTIMEZONE
TZID:America/Chicago
BEGIN:DAYLIGHT
TZOFFSETFROM:-0600
TZOFFSETTO:-0500
TZNAME:CDT
DTSTART:20210314T080000
END:DAYLIGHT
BEGIN:STANDARD
TZOFFSETFROM:-0500
TZOFFSETTO:-0600
TZNAME:CST
DTSTART:20211107T070000
END:STANDARD
BEGIN:DAYLIGHT
TZOFFSETFROM:-0600
TZOFFSETTO:-0500
TZNAME:CDT
DTSTART:20220313T080000
END:DAYLIGHT
BEGIN:STANDARD
TZOFFSETFROM:-0500
TZOFFSETTO:-0600
TZNAME:CST
DTSTART:20221106T070000
END:STANDARD
BEGIN:DAYLIGHT
TZOFFSETFROM:-0600
TZOFFSETTO:-0500
TZNAME:CDT
DTSTART:20230312T080000
END:DAYLIGHT
BEGIN:STANDARD
TZOFFSETFROM:-0500
TZOFFSETTO:-0600
TZNAME:CST
DTSTART:20231105T070000
END:STANDARD
END:VTIMEZONE
BEGIN:VEVENT
DTSTART;TZID=America/Indiana/Indianapolis:20220809T180000
DTEND;TZID=America/Indiana/Indianapolis:20220809T180000
DTSTAMP:20260424T003518
CREATED:20220713T205944Z
LAST-MODIFIED:20220714T192533Z
UID:10000037-1660068000-1660068000@kimroby.com
SUMMARY:SISTER FRIENDS FOREVER - Release Tour - Indianapolis\, IN
DESCRIPTION:In-Person Event for Sister Friends Forever by Kimberla Lawson Roby\nTalk\, Audience Q & A with Kimberla\, and Booksigning\nTuesday\, August 9\, 2022 @ 6:00 PM \nA Synopsis of Sister Friends Forever from Grand Central Publishing: \nThis emotional novel from a New York Times bestselling author follows four lifelong friends as each faces a crisis in family\, love\, and forgiveness. \nSerena\, Michelle\, Kenya\, and Lynette have been best friends since they were small children. And as sister friends forever\, they have always been there for one another\, through good times and bad\, no matter what. \nThis year is a crucial turning point for each woman. Serena\, still single\, is questioning why love hasn’t found her yet. Michelle is engaged and ready to walk down the aisle—until an old flame strolls back into her life. Kenya is happily married\, but at the same time\, her husband’s ex-wife won’t allow them or their family to live in peace. And Lynette’s divorce from her cheating husband has her nervously dating for the first time in well over a decade. \nDuring this difficult period\, their friendship will be tested like never before. Yet it is that sisterly love that they will need . . . more than ever.
URL:https://kimroby.com/event/sister-friends-forever-release-tour-indianapolis-in/
LOCATION:The Indianapolis Public Library\, 40 East St. Clair Street\, Indianapolis\, IN\, 46204\, United States
ATTACH;FMTTYPE=image/jpeg:https://kimroby.com/wp-content/uploads/Kimberla-Lawson-Roby_Events-10.jpg
GEO:39.778541;-86.156761
X-APPLE-STRUCTURED-LOCATION;VALUE=URI;X-ADDRESS=The Indianapolis Public Library 40 East St. Clair Street Indianapolis IN 46204 United States;X-APPLE-RADIUS=500;X-TITLE=40 East St. Clair Street:geo:-86.156761,39.778541
END:VEVENT
BEGIN:VEVENT
DTSTART;TZID=America/New_York:20220810T190000
DTEND;TZID=America/New_York:20220810T190000
DTSTAMP:20260424T003518
CREATED:20220713T210134Z
LAST-MODIFIED:20220714T192458Z
UID:10000039-1660158000-1660158000@kimroby.com
SUMMARY:SISTER FRIENDS FOREVER - Release Tour - Cleveland\, OH
DESCRIPTION:In-Person Event for Sister Friends Forever by Kimberla Lawson Roby\nTalk\, Audience Q & A with Kimberla\, and Booksigning\nWednesday\, August 10\, 2022 @ 7:00 PM \nA Synopsis of Sister Friends Forever from Grand Central Publishing: \nThis emotional novel from a New York Times bestselling author follows four lifelong friends as each faces a crisis in family\, love\, and forgiveness. \nSerena\, Michelle\, Kenya\, and Lynette have been best friends since they were small children. And as sister friends forever\, they have always been there for one another\, through good times and bad\, no matter what. \nThis year is a crucial turning point for each woman. Serena\, still single\, is questioning why love hasn’t found her yet. Michelle is engaged and ready to walk down the aisle—until an old flame strolls back into her life. Kenya is happily married\, but at the same time\, her husband’s ex-wife won’t allow them or their family to live in peace. And Lynette’s divorce from her cheating husband has her nervously dating for the first time in well over a decade. \nDuring this difficult period\, their friendship will be tested like never before. Yet it is that sisterly love that they will need . . . more than ever.
URL:https://kimroby.com/event/sister-friends-forever-release-tour-cleveland-oh/
LOCATION:Cuyahoga Country Pulic Library – South Euclid-Lyndhurst Branch\, 1876 South Green Road\, South Euclid\, OH\, 44121\, United States
ATTACH;FMTTYPE=image/jpeg:https://kimroby.com/wp-content/uploads/Kimberla-Lawson-Roby_Events-10.jpg
END:VEVENT
BEGIN:VEVENT
DTSTART;TZID=America/Chicago:20220811T190000
DTEND;TZID=America/Chicago:20220811T190000
DTSTAMP:20260424T003518
CREATED:20220713T202901Z
LAST-MODIFIED:20220714T192336Z
UID:10000020-1660244400-1660244400@kimroby.com
SUMMARY:SISTER FRIENDS FOREVER - Release Tour - Fort Worth\, TX
DESCRIPTION:In-Person Event for Sister Friends Forever by Kimberla Lawson Roby\nTalk\, Audience Q & A with Kimberla\, and Booksigning\nThursday\, August 11\, 2022 @ 7:00 PM \nhttps://www.thedockbookshop.com/event/kimberla-lawson-roby-sister-friends-forever \nA Synopsis of Sister Friends Forever from Grand Central Publishing: \nThis emotional novel from a New York Times bestselling author follows four lifelong friends as each faces a crisis in family\, love\, and forgiveness. \nSerena\, Michelle\, Kenya\, and Lynette have been best friends since they were small children. And as sister friends forever\, they have always been there for one another\, through good times and bad\, no matter what. \nThis year is a crucial turning point for each woman. Serena\, still single\, is questioning why love hasn’t found her yet. Michelle is engaged and ready to walk down the aisle—until an old flame strolls back into her life. Kenya is happily married\, but at the same time\, her husband’s ex-wife won’t allow them or their family to live in peace. And Lynette’s divorce from her cheating husband has her nervously dating for the first time in well over a decade. \nDuring this difficult period\, their friendship will be tested like never before. Yet it is that sisterly love that they will need . . . more than ever.
URL:https://kimroby.com/event/sister-friends-forever-release-tour-fort-worth-tx/
LOCATION:The Dock Bookshop\, 6637 Meadowbrook Drive\, Fort Worth\, TX\, 76112
ATTACH;FMTTYPE=image/jpeg:https://kimroby.com/wp-content/uploads/Kimberla-Lawson-Roby_Events-10.jpg
END:VEVENT
BEGIN:VEVENT
DTSTART;TZID=America/Chicago:20220813T130000
DTEND;TZID=America/Chicago:20220813T130000
DTSTAMP:20260424T003518
CREATED:20220713T210109Z
LAST-MODIFIED:20220714T192854Z
UID:10000038-1660395600-1660395600@kimroby.com
SUMMARY:SISTER FRIENDS FOREVER - Release Tour - Lithonia\, GA
DESCRIPTION:In-Person Event for Sister Friends Forever by Kimberla Lawson Roby.\n20th Jubilee of Reading Book Club Conference & Block Party\nSaturday\, August 13\, 2022 @ 1:00 PM \nTalk and Booksigning. \nSpeaking with signing to follow. \nTo attend\, please RSVP at: https://events.dekalblibrary.org/event/6249560. \nA Synopsis of Sister Friends Forever from Grand Central Publishing: \nThis emotional novel from a New York Times bestselling author follows four lifelong friends as each faces a crisis in family\, love\, and forgiveness. \nSerena\, Michelle\, Kenya\, and Lynette have been best friends since they were small children. And as sister friends forever\, they have always been there for one another\, through good times and bad\, no matter what. \nThis year is a crucial turning point for each woman. Serena\, still single\, is questioning why love hasn’t found her yet. Michelle is engaged and ready to walk down the aisle—until an old flame strolls back into her life. Kenya is happily married\, but at the same time\, her husband’s ex-wife won’t allow them or their family to live in peace. And Lynette’s divorce from her cheating husband has her nervously dating for the first time in well over a decade. \nDuring this difficult period\, their friendship will be tested like never before. Yet it is that sisterly love that they will need . . . more than ever.
URL:https://kimroby.com/event/sister-friends-forever-20th-jubilee-of-reading-book-club-conference/
LOCATION:Stonecrest Library – DeKalk County Public Library\, 3123 Klondike Road\, Lithonia\, GA\, 30038
ATTACH;FMTTYPE=image/jpeg:https://kimroby.com/wp-content/uploads/Kimberla-Lawson-Roby_Events-10.jpg
END:VEVENT
BEGIN:VEVENT
DTSTART;TZID=America/Chicago:20220815T180000
DTEND;TZID=America/Chicago:20220815T180000
DTSTAMP:20260424T003518
CREATED:20220713T205913Z
LAST-MODIFIED:20220714T192413Z
UID:10000021-1660586400-1660586400@kimroby.com
SUMMARY:SISTER FRIENDS FOREVER - Release Tour - Memphis\, TN
DESCRIPTION:In-Person Event for Sister Friends Forever by Kimberla Lawson Roby\nTalk\, Audience Q & A with Kimberla\, and Booksigning\nMonday\, August 15\, 2022 @ 6:00 PM \nA Synopsis of Sister Friends Forever from Grand Central Publishing: \nThis emotional novel from a New York Times bestselling author follows four lifelong friends as each faces a crisis in family\, love\, and forgiveness. \nSerena\, Michelle\, Kenya\, and Lynette have been best friends since they were small children. And as sister friends forever\, they have always been there for one another\, through good times and bad\, no matter what. \nThis year is a crucial turning point for each woman. Serena\, still single\, is questioning why love hasn’t found her yet. Michelle is engaged and ready to walk down the aisle—until an old flame strolls back into her life. Kenya is happily married\, but at the same time\, her husband’s ex-wife won’t allow them or their family to live in peace. And Lynette’s divorce from her cheating husband has her nervously dating for the first time in well over a decade. \nDuring this difficult period\, their friendship will be tested like never before. Yet it is that sisterly love that they will need . . . more than ever.
URL:https://kimroby.com/event/sister-friends-forever-release-tour-memphis-tn/
LOCATION:Barnes & Noble – Wolfchase Galleria\, 2774 N Germantown Parkway\, Memphis\, TN\, 38133\, United States
ATTACH;FMTTYPE=image/jpeg:https://kimroby.com/wp-content/uploads/Kimberla-Lawson-Roby_Events-10.jpg
GEO:35.2010813;-89.7912488
X-APPLE-STRUCTURED-LOCATION;VALUE=URI;X-ADDRESS=Barnes & Noble – Wolfchase Galleria 2774 N Germantown Parkway Memphis TN 38133 United States;X-APPLE-RADIUS=500;X-TITLE=2774 N Germantown Parkway:geo:-89.7912488,35.2010813
END:VEVENT
BEGIN:VEVENT
DTSTART;TZID=America/Chicago:20220820T130000
DTEND;TZID=America/Chicago:20220820T130000
DTSTAMP:20260424T003518
CREATED:20220713T212023Z
LAST-MODIFIED:20220714T192355Z
UID:10000040-1661000400-1661000400@kimroby.com
SUMMARY:SISTER FRIENDS FOREVER - Release Tour - Rockford\, IL
DESCRIPTION:In-Person Event for Sister Friends Forever by Kimberla Lawson Roby\nTalk\, Audience Q & A with Kimberla\, and Booksigning\nSaturday\, August 20\, 2022 @ 1:00 PM \nA Synopsis of Sister Friends Forever from Grand Central Publishing: \nThis emotional novel from a New York Times bestselling author follows four lifelong friends as each faces a crisis in family\, love\, and forgiveness. \nSerena\, Michelle\, Kenya\, and Lynette have been best friends since they were small children. And as sister friends forever\, they have always been there for one another\, through good times and bad\, no matter what. \nThis year is a crucial turning point for each woman. Serena\, still single\, is questioning why love hasn’t found her yet. Michelle is engaged and ready to walk down the aisle—until an old flame strolls back into her life. Kenya is happily married\, but at the same time\, her husband’s ex-wife won’t allow them or their family to live in peace. And Lynette’s divorce from her cheating husband has her nervously dating for the first time in well over a decade. \nDuring this difficult period\, their friendship will be tested like never before. Yet it is that sisterly love that they will need . . . more than ever.
URL:https://kimroby.com/event/sister-friends-forever-release-tour-rockford-il/
LOCATION:Barnes & Noble – Rockford\, IL\, 7200 Harrison Avenue\, Rockford\, IL\, 61112\, United States
ATTACH;FMTTYPE=image/jpeg:https://kimroby.com/wp-content/uploads/Kimberla-Lawson-Roby_Events-10.jpg
END:VEVENT
END:VCALENDAR