BEGIN:VCALENDAR
VERSION:2.0
PRODID:-//Kimberla Lawson Roby — Author | Speaker | Encourager - ECPv6.15.13.1//NONSGML v1.0//EN
CALSCALE:GREGORIAN
METHOD:PUBLISH
X-ORIGINAL-URL:https://kimroby.com
X-WR-CALDESC:Events for Kimberla Lawson Roby — Author | Speaker | Encourager
REFRESH-INTERVAL;VALUE=DURATION:PT1H
X-Robots-Tag:noindex
X-PUBLISHED-TTL:PT1H
BEGIN:VTIMEZONE
TZID:America/Chicago
BEGIN:DAYLIGHT
TZOFFSETFROM:-0600
TZOFFSETTO:-0500
TZNAME:CDT
DTSTART:20210314T080000
END:DAYLIGHT
BEGIN:STANDARD
TZOFFSETFROM:-0500
TZOFFSETTO:-0600
TZNAME:CST
DTSTART:20211107T070000
END:STANDARD
BEGIN:DAYLIGHT
TZOFFSETFROM:-0600
TZOFFSETTO:-0500
TZNAME:CDT
DTSTART:20220313T080000
END:DAYLIGHT
BEGIN:STANDARD
TZOFFSETFROM:-0500
TZOFFSETTO:-0600
TZNAME:CST
DTSTART:20221106T070000
END:STANDARD
BEGIN:DAYLIGHT
TZOFFSETFROM:-0600
TZOFFSETTO:-0500
TZNAME:CDT
DTSTART:20230312T080000
END:DAYLIGHT
BEGIN:STANDARD
TZOFFSETFROM:-0500
TZOFFSETTO:-0600
TZNAME:CST
DTSTART:20231105T070000
END:STANDARD
END:VTIMEZONE
BEGIN:VEVENT
DTSTART;TZID=America/Chicago:20221129T180000
DTEND;TZID=America/Chicago:20221129T180000
DTSTAMP:20260423T230315
CREATED:20221003T180253Z
LAST-MODIFIED:20221003T180253Z
UID:10000004-1669744800-1669744800@kimroby.com
SUMMARY:Mahogany Books Front Row Virtual Crowdcast Event with Vanessa Miller Pierce & Kimberla Lawson Roby - Tuesday\, November 29\, 2022!
DESCRIPTION:Please Join Vanessa Miller Pierce on release day for her new novel\, What We Found in Hallelujah\, and Kimberla Lawson Roby\, author of Sister Friends Forever\, who will be joining her to celebrate it! \nThis event is hosted by Ramunda Lark Young\, co-owner of Mahogany Books\, and this is also where you can purchase your copy of Vanessa and Kimberla’s books! So please take some time out to register for the event at: https://www.mahoganybooks.com/. \nTime: 7:00 PM EST / 6:00 PM CST \n 
URL:https://kimroby.com/event/mahogany-books-front-row-virtual-crowdcast-event-with-vanessa-miller-pierce-kimberla-lawson-roby-tuesday-november-29-2022/
LOCATION:Mahogany Books\, Washington\, DC\, United States
ATTACH;FMTTYPE=image/jpeg:https://kimroby.com/wp-content/uploads/Kimberla-Lawson-Roby_Events-10.jpg
END:VEVENT
END:VCALENDAR