BEGIN:VCALENDAR
VERSION:2.0
PRODID:-//Kimberla Lawson Roby — Author | Speaker | Encourager - ECPv6.15.13.1//NONSGML v1.0//EN
CALSCALE:GREGORIAN
METHOD:PUBLISH
X-WR-CALNAME:Kimberla Lawson Roby — Author | Speaker | Encourager
X-ORIGINAL-URL:https://kimroby.com
X-WR-CALDESC:Events for Kimberla Lawson Roby — Author | Speaker | Encourager
REFRESH-INTERVAL;VALUE=DURATION:PT1H
X-Robots-Tag:noindex
X-PUBLISHED-TTL:PT1H
BEGIN:VTIMEZONE
TZID:America/New_York
BEGIN:DAYLIGHT
TZOFFSETFROM:-0500
TZOFFSETTO:-0400
TZNAME:EDT
DTSTART:20250309T070000
END:DAYLIGHT
BEGIN:STANDARD
TZOFFSETFROM:-0400
TZOFFSETTO:-0500
TZNAME:EST
DTSTART:20251102T060000
END:STANDARD
BEGIN:DAYLIGHT
TZOFFSETFROM:-0500
TZOFFSETTO:-0400
TZNAME:EDT
DTSTART:20260308T070000
END:DAYLIGHT
BEGIN:STANDARD
TZOFFSETFROM:-0400
TZOFFSETTO:-0500
TZNAME:EST
DTSTART:20261101T060000
END:STANDARD
BEGIN:DAYLIGHT
TZOFFSETFROM:-0500
TZOFFSETTO:-0400
TZNAME:EDT
DTSTART:20270314T070000
END:DAYLIGHT
BEGIN:STANDARD
TZOFFSETFROM:-0400
TZOFFSETTO:-0500
TZNAME:EST
DTSTART:20271107T060000
END:STANDARD
END:VTIMEZONE
BEGIN:VEVENT
DTSTART;TZID=America/New_York:20260425T090000
DTEND;TZID=America/New_York:20260425T090000
DTSTAMP:20260423T134415
CREATED:20260319T000651Z
LAST-MODIFIED:20260319T000651Z
UID:10000081-1777107600-1777107600@kimroby.com
SUMMARY:COVINGTON\, GA (Atlanta Area) - Becoming the Woman God Created You to Be - THE LIVE EXPERIENCE - Saturday\, April 25\, 2026 @ 10 AM
DESCRIPTION:Becoming the Woman God Created You to Be — THE LIVE EXPERIENCE — Saturday\, April 25\, 2026 @ 10 AM EST \nDuring the event\, New York Times Bestselling Author & Speaker\, Kimberla will serve as the Featured Speaker\, and she will be in conversation with First Lady\, Kelli Bullard\, who will be moderating their fireside chat. \n\nHosted by: Community Fellowship Baptist Church Women’s Ministry \nLocation: Salem Camp Grounds – Gymnasium\, 3962 Salem Road\, Covington\, GA 30016 \n  \nKimberla will also be signing copies of her book\, The Woman God Created You to Be: Finding Success Through Faith—Spiritually\, Personally\, and Professionally\, the Companion Workbook & Discussion Guide\, so please be sure to order copies of the The Woman God Created You to Be and/or the Companion Workbook as soon as possible\, so you can bring them with you to the event (Please check with your favorite local bookstore\, but if they do not have copies in stock\, Amazon will usually deliver them to you within 3 days). Also\, please note\, for VIP registrants\, the book and companion workbook are included in your ticket price. \n\nTicket Cost: \n $35 for General Admission. \n$50 for VIP Admission. VIP Admission includes a copy of the book & companion workbook\, and an intimate Q & A session with Kimberla from 9 AM – 9:45 AM. \n  \nTo register\, please visit: \nhttps://docs.google.com/forms/d/1lw4sxEnLpVKLKyxEMRWK5bdk9jiXl2D-3I-0ZsDmgFE \n 
URL:https://kimroby.com/event/community-fellowship/
LOCATION:Salem Camp Grounds – Gymnasium\, 3962 Salem Road\, Covington\, GA\, 30901
ATTACH;FMTTYPE=image/jpeg:https://kimroby.com/wp-content/uploads/Kimberla-Lawson-Roby_Events-10.jpg
END:VEVENT
END:VCALENDAR