BEGIN:VCALENDAR
VERSION:2.0
PRODID:-//Kimberla Lawson Roby — Author | Speaker | Encourager - ECPv6.15.13.1//NONSGML v1.0//EN
CALSCALE:GREGORIAN
METHOD:PUBLISH
X-WR-CALNAME:Kimberla Lawson Roby — Author | Speaker | Encourager
X-ORIGINAL-URL:https://kimroby.com
X-WR-CALDESC:Events for Kimberla Lawson Roby — Author | Speaker | Encourager
REFRESH-INTERVAL;VALUE=DURATION:PT1H
X-Robots-Tag:noindex
X-PUBLISHED-TTL:PT1H
BEGIN:VTIMEZONE
TZID:America/Chicago
BEGIN:DAYLIGHT
TZOFFSETFROM:-0600
TZOFFSETTO:-0500
TZNAME:CDT
DTSTART:20250309T080000
END:DAYLIGHT
BEGIN:STANDARD
TZOFFSETFROM:-0500
TZOFFSETTO:-0600
TZNAME:CST
DTSTART:20251102T070000
END:STANDARD
BEGIN:DAYLIGHT
TZOFFSETFROM:-0600
TZOFFSETTO:-0500
TZNAME:CDT
DTSTART:20260308T080000
END:DAYLIGHT
BEGIN:STANDARD
TZOFFSETFROM:-0500
TZOFFSETTO:-0600
TZNAME:CST
DTSTART:20261101T070000
END:STANDARD
BEGIN:DAYLIGHT
TZOFFSETFROM:-0600
TZOFFSETTO:-0500
TZNAME:CDT
DTSTART:20270314T080000
END:DAYLIGHT
BEGIN:STANDARD
TZOFFSETFROM:-0500
TZOFFSETTO:-0600
TZNAME:CST
DTSTART:20271107T070000
END:STANDARD
END:VTIMEZONE
BEGIN:VEVENT
DTSTART;TZID=America/Chicago:20260529T000000
DTEND;TZID=America/Chicago:20260531T000000
DTSTAMP:20260423T190452
CREATED:20250902T180936Z
LAST-MODIFIED:20260326T235607Z
UID:10000077-1780012800-1780185600@kimroby.com
SUMMARY:ATLANTA\, GA - Keynote Panelist at Black Romance Book Fest - May 29 - 31\, 2026
DESCRIPTION:BLACK ROMANCE BOOK FEST – May 29 – 31\, 2026\n\nKimberla will serve as a keynote panelist and will also be signing copies of her books.\nSo please join Kimberla\, lots of amazing authors\, book clubs\, and readers in Atlanta\, GA! \nThis event is sold out. \nTo pre-0rder The Woman God Created You to Be: Finding Success Through Faith–Spiritually\, Personally\, and Professionally and the Companion Workbook & Discussion Guide\, please place your order by Thursday\, April 23\, 2026. All sales are final and nonrefundable\, and you may pick up your books during Kimberla’s designated signing times during the event on Saturday or Sunday. \n  \nSaturday Signing \n9:00 AM – 11:50 AM\nGrand Ballroom — Table #60 \n  \nSaturday Keynote Panel \n2:00 PM – 2:50 PM\nInternational Ballroom DEF \n“Appealing to Generations and\nWriting through Change” \n  \nSunday Signing \n2:00 PM – 4:50 PM \nGrand Ballroom — Table #60 \n  \n  \n  \n 
URL:https://kimroby.com/event/atlanta-ga-black-romance-book-fest-may-29-31-2026/
LOCATION:Omni Hotel Centennial Park
ATTACH;FMTTYPE=image/jpeg:https://kimroby.com/wp-content/uploads/Kimberla-Lawson-Roby_Events-10.jpg
END:VEVENT
BEGIN:VEVENT
DTSTART;TZID=America/Chicago:20260731T000000
DTEND;TZID=America/Chicago:20260802T000000
DTSTAMP:20260423T190452
CREATED:20250902T174830Z
LAST-MODIFIED:20250907T232705Z
UID:10000076-1785456000-1785628800@kimroby.com
SUMMARY:ATLANTA\, GA - Speaker at the National Book Club Conference - July 31 - August 2\, 2026
DESCRIPTION:NATIONAL BOOK CLUB CONFERENCE – July 31 – August 2\, 2026\n\nKimberla will be speaking and signing copies of her nonfiction book\, companion workbook & discussion guide\, and her novels (please see below).\n\nThe Woman God Created You to Be: Finding Success Through Faith—Spiritually\, Personally\, and Professionally \nThe Woman God Created You to Be: Companion Workbook & Discussion Guide \nTitles of Novels that will be available to be announced. \n  \nSo please join Kimberla\, lots of amazing authors\, book clubs\, and readers in Atlanta\, GA! \nTo register\, please visit:\nhttp://www.nationalbookclubconference.com/ \nLocation: \nThe Westin Buckhead Atlanta\n3391 Peachtree Road\, N.E.\nAtlanta\, GA 30326 \nwww.kimroby.com/books  \n 
URL:https://kimroby.com/event/nbcc-2026/
LOCATION:The Westin Buckhead Atlanta\, 3391 Peachtree Road\, N.E.\, Atlanta\, GA\, 30326\, United States
ATTACH;FMTTYPE=image/jpeg:https://kimroby.com/wp-content/uploads/Kimberla-Lawson-Roby_Events-10.jpg
END:VEVENT
END:VCALENDAR